BEGIN:VCALENDAR
VERSION:2.0
PRODID:-//spbstu.ru//ical//RU
NAME:Расписание группы 3130801/40005
X-WR-CALNAME:Расписание группы 3130801/40005
TIMEZONE-ID:Europe/Moscow
X-WR-TIMEZONE:Europe/Moscow
BEGIN:VEVENT
UID:wp01@192.168.245.71:3006
SEQUENCE:0
DTSTAMP:20260422T121736Z
DTSTART:20260119T080000Z
DTEND:20260119T130000Z
SUMMARY:Электротехника
LOCATION:ГК-2 512
END:VEVENT
BEGIN:VEVENT
UID:28xx@192.168.245.71:3006
SEQUENCE:0
DTSTAMP:20260422T121736Z
DTSTART:20260121T070000Z
DTEND:20260121T074000Z
SUMMARY:Высшая математика
LOCATION:ГК-2 401
END:VEVENT
BEGIN:VEVENT
UID:h94h@192.168.245.71:3006
SEQUENCE:0
DTSTAMP:20260422T121736Z
DTSTART:20260122T080000Z
DTEND:20260122T140000Z
SUMMARY:Высшая математика
LOCATION:ГК-2 401
END:VEVENT
BEGIN:VEVENT
UID:bet5@192.168.245.71:3006
SEQUENCE:0
DTSTAMP:20260422T121736Z
DTSTART:20260123T070000Z
DTEND:20260123T084000Z
SUMMARY:Основы проектирования зданий и сооружений
LOCATION:ГК-2 402
END:VEVENT
BEGIN:VEVENT
UID:53ej@192.168.245.71:3006
SEQUENCE:0
DTSTAMP:20260422T121736Z
DTSTART:20260123T090000Z
DTEND:20260123T140000Z
SUMMARY:Основы проектирования зданий и сооружений
LOCATION:ГК-2 402
END:VEVENT
BEGIN:VEVENT
UID:wffs@192.168.245.71:3006
SEQUENCE:0
DTSTAMP:20260422T121736Z
DTSTART:20260124T110000Z
DTEND:20260124T140000Z
SUMMARY:Архитектура
LOCATION:ГК-2 512
END:VEVENT
END:VCALENDAR