BEGIN:VCALENDAR
VERSION:2.0
PRODID:-//spbstu.ru//ical//RU
NAME:Расписание группы 3130801/40005
X-WR-CALNAME:Расписание группы 3130801/40005
TIMEZONE-ID:Europe/Moscow
X-WR-TIMEZONE:Europe/Moscow
BEGIN:VEVENT
UID:qbxq@192.168.245.71:3006
SEQUENCE:0
DTSTAMP:20260421T033410Z
DTSTART:20260427T090000Z
DTEND:20260427T104000Z
SUMMARY:Безопасность жизнедеятельности
LOCATION:ГК 106
END:VEVENT
BEGIN:VEVENT
UID:mdtx@192.168.245.71:3006
SEQUENCE:0
DTSTAMP:20260421T033410Z
DTSTART:20260427T110000Z
DTEND:20260427T124000Z
SUMMARY:Элективная физическая культура и спорт
LOCATION:СК Секции
END:VEVENT
BEGIN:VEVENT
UID:zw9b@192.168.245.71:3006
SEQUENCE:0
DTSTAMP:20260421T033410Z
DTSTART:20260427T130000Z
DTEND:20260427T144000Z
SUMMARY:Архитектура
LOCATION:ГЗ 215
END:VEVENT
BEGIN:VEVENT
UID:733o@192.168.245.71:3006
SEQUENCE:0
DTSTAMP:20260421T033410Z
DTSTART:20260428T070000Z
DTEND:20260428T084000Z
SUMMARY:Гидравлика
LOCATION:ГЗ 215
END:VEVENT
BEGIN:VEVENT
UID:trng@192.168.245.71:3006
SEQUENCE:0
DTSTAMP:20260421T033410Z
DTSTART:20260428T090000Z
DTEND:20260428T104000Z
SUMMARY:Сопротивление материалов
LOCATION:ГЗ 215
END:VEVENT
BEGIN:VEVENT
UID:sqk7@192.168.245.71:3006
SEQUENCE:0
DTSTAMP:20260421T033410Z
DTSTART:20260428T110000Z
DTEND:20260428T124000Z
SUMMARY:Сопротивление материалов
LOCATION:ГК-2 503
END:VEVENT
BEGIN:VEVENT
UID:wewm@192.168.245.71:3006
SEQUENCE:0
DTSTAMP:20260421T033410Z
DTSTART:20260428T130000Z
DTEND:20260428T144000Z
SUMMARY:Строительные материалы
LOCATION:ГК 107А
END:VEVENT
BEGIN:VEVENT
UID:26cs@192.168.245.71:3006
SEQUENCE:0
DTSTAMP:20260421T033410Z
DTSTART:20260429T110000Z
DTEND:20260429T124000Z
SUMMARY:Строительная механика
LOCATION:ГК-2 412
END:VEVENT
BEGIN:VEVENT
UID:y8po@192.168.245.71:3006
SEQUENCE:0
DTSTAMP:20260421T033410Z
DTSTART:20260429T130000Z
DTEND:20260429T144000Z
SUMMARY:Геология
LOCATION:ГЗ 329
END:VEVENT
BEGIN:VEVENT
UID:i27h@192.168.245.71:3006
SEQUENCE:0
DTSTAMP:20260421T033410Z
DTSTART:20260430T090000Z
DTEND:20260430T104000Z
SUMMARY:Элективная физическая культура и спорт
LOCATION:СК Секции
END:VEVENT
END:VCALENDAR