BEGIN:VCALENDAR
VERSION:2.0
PRODID:-//spbstu.ru//ical//RU
NAME:Расписание группы 3130801/40005
X-WR-CALNAME:Расписание группы 3130801/40005
TIMEZONE-ID:Europe/Moscow
X-WR-TIMEZONE:Europe/Moscow
BEGIN:VEVENT
UID:q0hh@192.168.245.71:3006
SEQUENCE:0
DTSTAMP:20260421T051521Z
DTSTART:20260406T110000Z
DTEND:20260406T124000Z
SUMMARY:Элективная физическая культура и спорт
LOCATION:СК Секции
END:VEVENT
BEGIN:VEVENT
UID:zdf5@192.168.245.71:3006
SEQUENCE:0
DTSTAMP:20260421T051521Z
DTSTART:20260407T090000Z
DTEND:20260407T104000Z
SUMMARY:Геология
LOCATION:ГК-2 313
END:VEVENT
BEGIN:VEVENT
UID:s8vo@192.168.245.71:3006
SEQUENCE:0
DTSTAMP:20260421T051521Z
DTSTART:20260407T110000Z
DTEND:20260407T124000Z
SUMMARY:Сопротивление материалов
LOCATION:ГК-2 503
END:VEVENT
BEGIN:VEVENT
UID:ob60@192.168.245.71:3006
SEQUENCE:0
DTSTAMP:20260421T051521Z
DTSTART:20260407T130000Z
DTEND:20260407T144000Z
SUMMARY:Строительные материалы
LOCATION:ГК 117
END:VEVENT
BEGIN:VEVENT
UID:kgln@192.168.245.71:3006
SEQUENCE:0
DTSTAMP:20260421T051521Z
DTSTART:20260408T070000Z
DTEND:20260408T084000Z
SUMMARY:Безопасность жизнедеятельности
LOCATION:ГК 119
END:VEVENT
BEGIN:VEVENT
UID:thm0@192.168.245.71:3006
SEQUENCE:0
DTSTAMP:20260421T051521Z
DTSTART:20260408T090000Z
DTEND:20260408T104000Z
SUMMARY:Гидравлика
LOCATION:ГК 123а
END:VEVENT
BEGIN:VEVENT
UID:9c47@192.168.245.71:3006
SEQUENCE:0
DTSTAMP:20260421T051521Z
DTSTART:20260408T110000Z
DTEND:20260408T124000Z
SUMMARY:Строительная механика
LOCATION:ГК-2 407
END:VEVENT
BEGIN:VEVENT
UID:49po@192.168.245.71:3006
SEQUENCE:0
DTSTAMP:20260421T051521Z
DTSTART:20260408T130000Z
DTEND:20260408T144000Z
SUMMARY:Геология
LOCATION:ГЗ 329
END:VEVENT
BEGIN:VEVENT
UID:3abg@192.168.245.71:3006
SEQUENCE:0
DTSTAMP:20260421T051521Z
DTSTART:20260409T090000Z
DTEND:20260409T104000Z
SUMMARY:Элективная физическая культура и спорт
LOCATION:СК Секции
END:VEVENT
BEGIN:VEVENT
UID:8i3f@192.168.245.71:3006
SEQUENCE:0
DTSTAMP:20260421T051521Z
DTSTART:20260409T110000Z
DTEND:20260409T124000Z
SUMMARY:Строительные материалы
LOCATION:ГЗ 305
END:VEVENT
BEGIN:VEVENT
UID:nspk@192.168.245.71:3006
SEQUENCE:0
DTSTAMP:20260421T051521Z
DTSTART:20260410T070000Z
DTEND:20260410T084000Z
SUMMARY:Иностранный язык. Профессионально-ориентированный курс
LOCATION:ГК 321
END:VEVENT
BEGIN:VEVENT
UID:9tjf@192.168.245.71:3006
SEQUENCE:0
DTSTAMP:20260421T051521Z
DTSTART:20260410T090000Z
DTEND:20260410T104000Z
SUMMARY:Архитектура
LOCATION:ГК-2 407
END:VEVENT
END:VCALENDAR