BEGIN:VCALENDAR
VERSION:2.0
PRODID:-//spbstu.ru//ical//RU
NAME:Расписание группы 3130801/40006
X-WR-CALNAME:Расписание группы 3130801/40006
TIMEZONE-ID:Europe/Moscow
X-WR-TIMEZONE:Europe/Moscow
BEGIN:VEVENT
UID:7geb@192.168.245.71:3006
SEQUENCE:0
DTSTAMP:20260421T234026Z
DTSTART:20260302T110000Z
DTEND:20260302T124000Z
SUMMARY:Элективная физическая культура и спорт
LOCATION:СК Секции
END:VEVENT
BEGIN:VEVENT
UID:7qzj@192.168.245.71:3006
SEQUENCE:0
DTSTAMP:20260421T234026Z
DTSTART:20260302T130000Z
DTEND:20260302T144000Z
SUMMARY:Архитектура
LOCATION:ГЗ 215
END:VEVENT
BEGIN:VEVENT
UID:fbvp@192.168.245.71:3006
SEQUENCE:0
DTSTAMP:20260421T234026Z
DTSTART:20260303T070000Z
DTEND:20260303T084000Z
SUMMARY:Гидравлика
LOCATION:ГЗ 215
END:VEVENT
BEGIN:VEVENT
UID:73nv@192.168.245.71:3006
SEQUENCE:0
DTSTAMP:20260421T234026Z
DTSTART:20260303T090000Z
DTEND:20260303T104000Z
SUMMARY:Сопротивление материалов
LOCATION:ГЗ 215
END:VEVENT
BEGIN:VEVENT
UID:r4jj@192.168.245.71:3006
SEQUENCE:0
DTSTAMP:20260421T234026Z
DTSTART:20260303T110000Z
DTEND:20260303T124000Z
SUMMARY:Строительная механика
LOCATION:ГК-2 506
END:VEVENT
BEGIN:VEVENT
UID:nlqv@192.168.245.71:3006
SEQUENCE:0
DTSTAMP:20260421T234026Z
DTSTART:20260303T130000Z
DTEND:20260303T144000Z
SUMMARY:Сопротивление материалов
LOCATION:ГК-2 512
END:VEVENT
BEGIN:VEVENT
UID:zpwr@192.168.245.71:3006
SEQUENCE:0
DTSTAMP:20260421T234026Z
DTSTART:20260304T090000Z
DTEND:20260304T104000Z
SUMMARY:Архитектура
LOCATION:ГК-2 401
END:VEVENT
BEGIN:VEVENT
UID:pc5j@192.168.245.71:3006
SEQUENCE:0
DTSTAMP:20260421T234026Z
DTSTART:20260304T110000Z
DTEND:20260304T124000Z
SUMMARY:Строительные материалы
LOCATION:ГК 117
END:VEVENT
BEGIN:VEVENT
UID:0ys9@192.168.245.71:3006
SEQUENCE:0
DTSTAMP:20260421T234026Z
DTSTART:20260304T130000Z
DTEND:20260304T144000Z
SUMMARY:Геология
LOCATION:ГЗ 329
END:VEVENT
BEGIN:VEVENT
UID:nb1g@192.168.245.71:3006
SEQUENCE:0
DTSTAMP:20260421T234026Z
DTSTART:20260305T090000Z
DTEND:20260305T104000Z
SUMMARY:Элективная физическая культура и спорт
LOCATION:СК Секции
END:VEVENT
BEGIN:VEVENT
UID:y1vp@192.168.245.71:3006
SEQUENCE:0
DTSTAMP:20260421T234026Z
DTSTART:20260306T050000Z
DTEND:20260306T064000Z
SUMMARY:Строительная механика
LOCATION:ГЗ 215
END:VEVENT
BEGIN:VEVENT
UID:gyku@192.168.245.71:3006
SEQUENCE:0
DTSTAMP:20260421T234026Z
DTSTART:20260306T070000Z
DTEND:20260306T084000Z
SUMMARY:Геология
LOCATION:ГК-2 313
END:VEVENT
BEGIN:VEVENT
UID:y7fm@192.168.245.71:3006
SEQUENCE:0
DTSTAMP:20260421T234026Z
DTSTART:20260307T090000Z
DTEND:20260307T104000Z
SUMMARY:Иностранный язык. Профессионально-ориентированный курс
LOCATION:ГК 230
END:VEVENT
END:VCALENDAR