BEGIN:VCALENDAR
VERSION:2.0
PRODID:-//spbstu.ru//ical//RU
NAME:Расписание группы 3130801/40007
X-WR-CALNAME:Расписание группы 3130801/40007
TIMEZONE-ID:Europe/Moscow
X-WR-TIMEZONE:Europe/Moscow
BEGIN:VEVENT
UID:38kp@192.168.245.71:3006
SEQUENCE:0
DTSTAMP:20260421T192124Z
DTSTART:20260617T070000Z
DTEND:20260617T074000Z
SUMMARY:Гидравлика
LOCATION:ГК 123а
END:VEVENT
BEGIN:VEVENT
UID:eovp@192.168.245.71:3006
SEQUENCE:0
DTSTAMP:20260421T192124Z
DTSTART:20260618T070000Z
DTEND:20260618T140000Z
SUMMARY:Гидравлика
LOCATION:ГК 123а
END:VEVENT
END:VCALENDAR