BEGIN:VCALENDAR
VERSION:2.0
PRODID:-//spbstu.ru//ical//RU
NAME:Расписание группы 3130801/40008
X-WR-CALNAME:Расписание группы 3130801/40008
TIMEZONE-ID:Europe/Moscow
X-WR-TIMEZONE:Europe/Moscow
BEGIN:VEVENT
UID:6o2n@192.168.245.71:3006
SEQUENCE:0
DTSTAMP:20260421T201000Z
DTSTART:20260330T070000Z
DTEND:20260330T084000Z
SUMMARY:Сопротивление материалов
LOCATION:ГК-2 512
END:VEVENT
BEGIN:VEVENT
UID:0ye6@192.168.245.71:3006
SEQUENCE:0
DTSTAMP:20260421T201000Z
DTSTART:20260330T090000Z
DTEND:20260330T104000Z
SUMMARY:Иностранный язык. Профессионально-ориентированный курс
LOCATION:ГК-2 502
END:VEVENT
BEGIN:VEVENT
UID:xcje@192.168.245.71:3006
SEQUENCE:0
DTSTAMP:20260421T201000Z
DTSTART:20260330T110000Z
DTEND:20260330T124000Z
SUMMARY:Элективная физическая культура и спорт
LOCATION:СК Секции
END:VEVENT
BEGIN:VEVENT
UID:ug70@192.168.245.71:3006
SEQUENCE:0
DTSTAMP:20260421T201000Z
DTSTART:20260330T130000Z
DTEND:20260330T144000Z
SUMMARY:Архитектура
LOCATION:ГЗ 215
END:VEVENT
BEGIN:VEVENT
UID:0slu@192.168.245.71:3006
SEQUENCE:0
DTSTAMP:20260421T201000Z
DTSTART:20260331T070000Z
DTEND:20260331T084000Z
SUMMARY:Гидравлика
LOCATION:ГЗ 215
END:VEVENT
BEGIN:VEVENT
UID:ey0o@192.168.245.71:3006
SEQUENCE:0
DTSTAMP:20260421T201000Z
DTSTART:20260331T090000Z
DTEND:20260331T104000Z
SUMMARY:Сопротивление материалов
LOCATION:ГЗ 215
END:VEVENT
BEGIN:VEVENT
UID:ori7@192.168.245.71:3006
SEQUENCE:0
DTSTAMP:20260421T201000Z
DTSTART:20260331T150000Z
DTEND:20260331T170000Z
SUMMARY:Теоретическая механика
LOCATION:ГЗ 153
END:VEVENT
BEGIN:VEVENT
UID:ruw1@192.168.245.71:3006
SEQUENCE:0
DTSTAMP:20260421T201000Z
DTSTART:20260401T070000Z
DTEND:20260401T084000Z
SUMMARY:Строительные материалы
LOCATION:ГК 117
END:VEVENT
BEGIN:VEVENT
UID:gq74@192.168.245.71:3006
SEQUENCE:0
DTSTAMP:20260421T201000Z
DTSTART:20260401T090000Z
DTEND:20260401T104000Z
SUMMARY:Архитектура
LOCATION:ГК-2 410
END:VEVENT
BEGIN:VEVENT
UID:oift@192.168.245.71:3006
SEQUENCE:0
DTSTAMP:20260421T201000Z
DTSTART:20260401T110000Z
DTEND:20260401T124000Z
SUMMARY:Строительная механика
LOCATION:ГК-2 508
END:VEVENT
BEGIN:VEVENT
UID:33vk@192.168.245.71:3006
SEQUENCE:0
DTSTAMP:20260421T201000Z
DTSTART:20260401T130000Z
DTEND:20260401T144000Z
SUMMARY:Геология
LOCATION:ГЗ 329
END:VEVENT
BEGIN:VEVENT
UID:hvby@192.168.245.71:3006
SEQUENCE:0
DTSTAMP:20260421T201000Z
DTSTART:20260402T070000Z
DTEND:20260402T084000Z
SUMMARY:Безопасность жизнедеятельности
LOCATION:ГК 119
END:VEVENT
BEGIN:VEVENT
UID:fxvw@192.168.245.71:3006
SEQUENCE:0
DTSTAMP:20260421T201000Z
DTSTART:20260402T090000Z
DTEND:20260402T104000Z
SUMMARY:Элективная физическая культура и спорт
LOCATION:СК Секции
END:VEVENT
BEGIN:VEVENT
UID:lu62@192.168.245.71:3006
SEQUENCE:0
DTSTAMP:20260421T201000Z
DTSTART:20260403T050000Z
DTEND:20260403T064000Z
SUMMARY:Строительная механика
LOCATION:ГЗ 215
END:VEVENT
BEGIN:VEVENT
UID:hj0o@192.168.245.71:3006
SEQUENCE:0
DTSTAMP:20260421T201000Z
DTSTART:20260403T070000Z
DTEND:20260403T084000Z
SUMMARY:Гидравлика
LOCATION:ГК 123б
END:VEVENT
BEGIN:VEVENT
UID:5qn1@192.168.245.71:3006
SEQUENCE:0
DTSTAMP:20260421T201000Z
DTSTART:20260403T090000Z
DTEND:20260403T104000Z
SUMMARY:Геология
LOCATION:ГК-2 313
END:VEVENT
END:VCALENDAR