BEGIN:VCALENDAR
VERSION:2.0
PRODID:-//spbstu.ru//ical//RU
NAME:Расписание группы 3130801/40008
X-WR-CALNAME:Расписание группы 3130801/40008
TIMEZONE-ID:Europe/Moscow
X-WR-TIMEZONE:Europe/Moscow
BEGIN:VEVENT
UID:tse7@192.168.245.71:3006
SEQUENCE:0
DTSTAMP:20260422T060055Z
DTSTART:20260310T150000Z
DTEND:20260310T164000Z
SUMMARY:Сопротивление материалов
LOCATION:ГК-2 405
END:VEVENT
BEGIN:VEVENT
UID:bbe8@192.168.245.71:3006
SEQUENCE:0
DTSTAMP:20260422T060055Z
DTSTART:20260311T070000Z
DTEND:20260311T084000Z
SUMMARY:Строительные материалы
LOCATION:ГК 107А
END:VEVENT
BEGIN:VEVENT
UID:a41x@192.168.245.71:3006
SEQUENCE:0
DTSTAMP:20260422T060055Z
DTSTART:20260311T090000Z
DTEND:20260311T104000Z
SUMMARY:Архитектура
LOCATION:ГК-2 410
END:VEVENT
BEGIN:VEVENT
UID:yewy@192.168.245.71:3006
SEQUENCE:0
DTSTAMP:20260422T060055Z
DTSTART:20260311T110000Z
DTEND:20260311T124000Z
SUMMARY:Строительная механика
LOCATION:ГК-2 508
END:VEVENT
BEGIN:VEVENT
UID:43k9@192.168.245.71:3006
SEQUENCE:0
DTSTAMP:20260422T060055Z
DTSTART:20260311T130000Z
DTEND:20260311T144000Z
SUMMARY:Геология
LOCATION:ГЗ 329
END:VEVENT
BEGIN:VEVENT
UID:kkf0@192.168.245.71:3006
SEQUENCE:0
DTSTAMP:20260422T060055Z
DTSTART:20260311T150000Z
DTEND:20260311T164000Z
SUMMARY:Основы проектирования зданий и сооружений
LOCATION:ГК-2 404
END:VEVENT
BEGIN:VEVENT
UID:h4ds@192.168.245.71:3006
SEQUENCE:0
DTSTAMP:20260422T060055Z
DTSTART:20260312T090000Z
DTEND:20260312T104000Z
SUMMARY:Элективная физическая культура и спорт
LOCATION:СК Секции
END:VEVENT
BEGIN:VEVENT
UID:tins@192.168.245.71:3006
SEQUENCE:0
DTSTAMP:20260422T060055Z
DTSTART:20260312T110000Z
DTEND:20260312T124000Z
SUMMARY:Строительные материалы
LOCATION:ГЗ 305
END:VEVENT
BEGIN:VEVENT
UID:0egb@192.168.245.71:3006
SEQUENCE:0
DTSTAMP:20260422T060055Z
DTSTART:20260312T130000Z
DTEND:20260312T144000Z
SUMMARY:Основы проектной деятельности
LOCATION:ГК-2 509
END:VEVENT
BEGIN:VEVENT
UID:rpz7@192.168.245.71:3006
SEQUENCE:0
DTSTAMP:20260422T060055Z
DTSTART:20260314T110000Z
DTEND:20260314T124000Z
SUMMARY:Безопасность жизнедеятельности
LOCATION:ГЗ 215
END:VEVENT
BEGIN:VEVENT
UID:uk2h@192.168.245.71:3006
SEQUENCE:0
DTSTAMP:20260422T060055Z
DTSTART:20260314T130000Z
DTEND:20260314T144000Z
SUMMARY:Безопасность жизнедеятельности
LOCATION:ГК 106
END:VEVENT
END:VCALENDAR