BEGIN:VCALENDAR
VERSION:2.0
PRODID:-//spbstu.ru//ical//RU
NAME:Расписание группы 3130801/40008
X-WR-CALNAME:Расписание группы 3130801/40008
TIMEZONE-ID:Europe/Moscow
X-WR-TIMEZONE:Europe/Moscow
BEGIN:VEVENT
UID:4a7l@192.168.245.71:3006
SEQUENCE:0
DTSTAMP:20260421T132741Z
DTSTART:20260413T070000Z
DTEND:20260413T084000Z
SUMMARY:Сопротивление материалов
LOCATION:ГК-2 512
END:VEVENT
BEGIN:VEVENT
UID:efy5@192.168.245.71:3006
SEQUENCE:0
DTSTAMP:20260421T132741Z
DTSTART:20260413T090000Z
DTEND:20260413T104000Z
SUMMARY:Иностранный язык. Профессионально-ориентированный курс
LOCATION:ГК-2 502
END:VEVENT
BEGIN:VEVENT
UID:vbej@192.168.245.71:3006
SEQUENCE:0
DTSTAMP:20260421T132741Z
DTSTART:20260413T110000Z
DTEND:20260413T124000Z
SUMMARY:Элективная физическая культура и спорт
LOCATION:СК Секции
END:VEVENT
BEGIN:VEVENT
UID:uy5s@192.168.245.71:3006
SEQUENCE:0
DTSTAMP:20260421T132741Z
DTSTART:20260414T070000Z
DTEND:20260414T084000Z
SUMMARY:Гидравлика
LOCATION:ГЗ 215
END:VEVENT
BEGIN:VEVENT
UID:6f7g@192.168.245.71:3006
SEQUENCE:0
DTSTAMP:20260421T132741Z
DTSTART:20260414T090000Z
DTEND:20260414T104000Z
SUMMARY:Сопротивление материалов
LOCATION:ГЗ 215
END:VEVENT
BEGIN:VEVENT
UID:ywaj@192.168.245.71:3006
SEQUENCE:0
DTSTAMP:20260421T132741Z
DTSTART:20260415T070000Z
DTEND:20260415T084000Z
SUMMARY:Строительные материалы
LOCATION:ГК 117
END:VEVENT
BEGIN:VEVENT
UID:666c@192.168.245.71:3006
SEQUENCE:0
DTSTAMP:20260421T132741Z
DTSTART:20260415T090000Z
DTEND:20260415T104000Z
SUMMARY:Архитектура
LOCATION:ГК-2 410
END:VEVENT
BEGIN:VEVENT
UID:utq7@192.168.245.71:3006
SEQUENCE:0
DTSTAMP:20260421T132741Z
DTSTART:20260415T110000Z
DTEND:20260415T124000Z
SUMMARY:Строительная механика
LOCATION:ГК-2 508
END:VEVENT
BEGIN:VEVENT
UID:iz4p@192.168.245.71:3006
SEQUENCE:0
DTSTAMP:20260421T132741Z
DTSTART:20260415T130000Z
DTEND:20260415T144000Z
SUMMARY:Геология
LOCATION:ГЗ 329
END:VEVENT
BEGIN:VEVENT
UID:xh5i@192.168.245.71:3006
SEQUENCE:0
DTSTAMP:20260421T132741Z
DTSTART:20260416T090000Z
DTEND:20260416T104000Z
SUMMARY:Элективная физическая культура и спорт
LOCATION:СК Секции
END:VEVENT
BEGIN:VEVENT
UID:8abd@192.168.245.71:3006
SEQUENCE:0
DTSTAMP:20260421T132741Z
DTSTART:20260417T050000Z
DTEND:20260417T064000Z
SUMMARY:Строительная механика
LOCATION:ГЗ 215
END:VEVENT
BEGIN:VEVENT
UID:beyo@192.168.245.71:3006
SEQUENCE:0
DTSTAMP:20260421T132741Z
DTSTART:20260417T070000Z
DTEND:20260417T084000Z
SUMMARY:Гидравлика
LOCATION:ГК 123б
END:VEVENT
BEGIN:VEVENT
UID:aw8v@192.168.245.71:3006
SEQUENCE:0
DTSTAMP:20260421T132741Z
DTSTART:20260417T090000Z
DTEND:20260417T104000Z
SUMMARY:Геология
LOCATION:ГК-2 313
END:VEVENT
END:VCALENDAR