BEGIN:VCALENDAR
VERSION:2.0
PRODID:-//spbstu.ru//ical//RU
NAME:Расписание группы 3130801/40009
X-WR-CALNAME:Расписание группы 3130801/40009
TIMEZONE-ID:Europe/Moscow
X-WR-TIMEZONE:Europe/Moscow
BEGIN:VEVENT
UID:0ead@192.168.245.71:3006
SEQUENCE:0
DTSTAMP:20260425T134734Z
DTSTART:20251006T070000Z
DTEND:20251006T084000Z
SUMMARY:Электротехника
LOCATION:ГЗ ЭиЭ
END:VEVENT
BEGIN:VEVENT
UID:ilup@192.168.245.71:3006
SEQUENCE:0
DTSTAMP:20260425T134734Z
DTSTART:20251006T070000Z
DTEND:20251006T084000Z
SUMMARY:Электротехника
LOCATION:ГЗ ЭиЭ
END:VEVENT
BEGIN:VEVENT
UID:lq1u@192.168.245.71:3006
SEQUENCE:0
DTSTAMP:20260425T134734Z
DTSTART:20251006T090000Z
DTEND:20251006T104000Z
SUMMARY:Архитектура
LOCATION:ГК-2 402
END:VEVENT
BEGIN:VEVENT
UID:ifse@192.168.245.71:3006
SEQUENCE:0
DTSTAMP:20260425T134734Z
DTSTART:20251006T110000Z
DTEND:20251006T124000Z
SUMMARY:Элективная физическая культура и спорт
LOCATION:СК Секции
END:VEVENT
BEGIN:VEVENT
UID:63wq@192.168.245.71:3006
SEQUENCE:0
DTSTAMP:20260425T134734Z
DTSTART:20251006T130000Z
DTEND:20251006T144000Z
SUMMARY:Электротехника
LOCATION:ГЗ 305
END:VEVENT
BEGIN:VEVENT
UID:nwlz@192.168.245.71:3006
SEQUENCE:0
DTSTAMP:20260425T134734Z
DTSTART:20251007T050000Z
DTEND:20251007T064000Z
SUMMARY:Иностранный язык: Базовый курс
LOCATION:ГК 230
END:VEVENT
BEGIN:VEVENT
UID:6kkm@192.168.245.71:3006
SEQUENCE:0
DTSTAMP:20260425T134734Z
DTSTART:20251007T070000Z
DTEND:20251007T084000Z
SUMMARY:Основы проектирования зданий и сооружений
LOCATION:ГК-2 203а
END:VEVENT
BEGIN:VEVENT
UID:r6d1@192.168.245.71:3006
SEQUENCE:0
DTSTAMP:20260425T134734Z
DTSTART:20251007T090000Z
DTEND:20251007T104000Z
SUMMARY:Сопротивление материалов
LOCATION:ГЗ 215
END:VEVENT
BEGIN:VEVENT
UID:ax4v@192.168.245.71:3006
SEQUENCE:0
DTSTAMP:20260425T134734Z
DTSTART:20251007T110000Z
DTEND:20251007T124000Z
SUMMARY:История России
LOCATION:ГК-2 512
END:VEVENT
BEGIN:VEVENT
UID:88d9@192.168.245.71:3006
SEQUENCE:0
DTSTAMP:20260425T134734Z
DTSTART:20251008T070000Z
DTEND:20251008T084000Z
SUMMARY:Высшая математика
LOCATION:ГК-2 502
END:VEVENT
BEGIN:VEVENT
UID:jech@192.168.245.71:3006
SEQUENCE:0
DTSTAMP:20260425T134734Z
DTSTART:20251008T090000Z
DTEND:20251008T104000Z
SUMMARY:Сопротивление материалов
LOCATION:ГК-2 512
END:VEVENT
BEGIN:VEVENT
UID:64x1@192.168.245.71:3006
SEQUENCE:0
DTSTAMP:20260425T134734Z
DTSTART:20251008T110000Z
DTEND:20251008T124000Z
SUMMARY:Строительные материалы
LOCATION:ГК 113
END:VEVENT
BEGIN:VEVENT
UID:w3e5@192.168.245.71:3006
SEQUENCE:0
DTSTAMP:20260425T134734Z
DTSTART:20251009T070000Z
DTEND:20251009T084000Z
SUMMARY:Гидравлика
LOCATION:ГК 123б
END:VEVENT
BEGIN:VEVENT
UID:bx4b@192.168.245.71:3006
SEQUENCE:0
DTSTAMP:20260425T134734Z
DTSTART:20251009T090000Z
DTEND:20251009T104000Z
SUMMARY:Элективная физическая культура и спорт
LOCATION:СК Секции
END:VEVENT
BEGIN:VEVENT
UID:g3rt@192.168.245.71:3006
SEQUENCE:0
DTSTAMP:20260425T134734Z
DTSTART:20251009T110000Z
DTEND:20251009T124000Z
SUMMARY:Строительные материалы
LOCATION:ГЗ 215
END:VEVENT
BEGIN:VEVENT
UID:dd37@192.168.245.71:3006
SEQUENCE:0
DTSTAMP:20260425T134734Z
DTSTART:20251010T090000Z
DTEND:20251010T104000Z
SUMMARY:Теоретическая механика
LOCATION:ГЗ 215
END:VEVENT
BEGIN:VEVENT
UID:2m33@192.168.245.71:3006
SEQUENCE:0
DTSTAMP:20260425T134734Z
DTSTART:20251010T110000Z
DTEND:20251010T125000Z
SUMMARY:Цифровая аналитика
LOCATION:ГК-2 402
END:VEVENT
BEGIN:VEVENT
UID:gv9l@192.168.245.71:3006
SEQUENCE:0
DTSTAMP:20260425T134734Z
DTSTART:20251011T060000Z
DTEND:20251011T084000Z
SUMMARY:Иностранный язык: Русский язык как иностранный
LOCATION:ГЗ 229
END:VEVENT
BEGIN:VEVENT
UID:55gu@192.168.245.71:3006
SEQUENCE:0
DTSTAMP:20260425T134734Z
DTSTART:20251011T070000Z
DTEND:20251011T084000Z
SUMMARY:Гидравлика
LOCATION:ГЗ 215
END:VEVENT
END:VCALENDAR