BEGIN:VCALENDAR
VERSION:2.0
PRODID:-//spbstu.ru//ical//RU
NAME:Расписание группы 3130801/40009
X-WR-CALNAME:Расписание группы 3130801/40009
TIMEZONE-ID:Europe/Moscow
X-WR-TIMEZONE:Europe/Moscow
BEGIN:VEVENT
UID:7xx9@192.168.245.71:3006
SEQUENCE:0
DTSTAMP:20260421T132624Z
DTSTART:20260310T090000Z
DTEND:20260310T104000Z
SUMMARY:Сопротивление материалов
LOCATION:ГЗ 215
END:VEVENT
BEGIN:VEVENT
UID:b7yl@192.168.245.71:3006
SEQUENCE:0
DTSTAMP:20260421T132624Z
DTSTART:20260310T110000Z
DTEND:20260310T124000Z
SUMMARY:Сопротивление материалов
LOCATION:ГК-2 502
END:VEVENT
BEGIN:VEVENT
UID:lgva@192.168.245.71:3006
SEQUENCE:0
DTSTAMP:20260421T132624Z
DTSTART:20260310T130000Z
DTEND:20260310T144000Z
SUMMARY:Строительные материалы
LOCATION:ГК 107А
END:VEVENT
BEGIN:VEVENT
UID:2wm0@192.168.245.71:3006
SEQUENCE:0
DTSTAMP:20260421T132624Z
DTSTART:20260310T150000Z
DTEND:20260310T164000Z
SUMMARY:Сопротивление материалов
LOCATION:ГК-2 405
END:VEVENT
BEGIN:VEVENT
UID:v5vb@192.168.245.71:3006
SEQUENCE:0
DTSTAMP:20260421T132624Z
DTSTART:20260311T090000Z
DTEND:20260311T104000Z
SUMMARY:Безопасность жизнедеятельности
LOCATION:ГК 104
END:VEVENT
BEGIN:VEVENT
UID:p6rc@192.168.245.71:3006
SEQUENCE:0
DTSTAMP:20260421T132624Z
DTSTART:20260311T110000Z
DTEND:20260311T124000Z
SUMMARY:Геология
LOCATION:ГК-2 313
END:VEVENT
BEGIN:VEVENT
UID:vexw@192.168.245.71:3006
SEQUENCE:0
DTSTAMP:20260421T132624Z
DTSTART:20260311T130000Z
DTEND:20260311T144000Z
SUMMARY:Геология
LOCATION:ГЗ 329
END:VEVENT
BEGIN:VEVENT
UID:uooa@192.168.245.71:3006
SEQUENCE:0
DTSTAMP:20260421T132624Z
DTSTART:20260311T150000Z
DTEND:20260311T164000Z
SUMMARY:Основы проектирования зданий и сооружений
LOCATION:ГК-2 404
END:VEVENT
BEGIN:VEVENT
UID:mesu@192.168.245.71:3006
SEQUENCE:0
DTSTAMP:20260421T132624Z
DTSTART:20260312T090000Z
DTEND:20260312T104000Z
SUMMARY:Элективная физическая культура и спорт
LOCATION:СК Секции
END:VEVENT
BEGIN:VEVENT
UID:oydy@192.168.245.71:3006
SEQUENCE:0
DTSTAMP:20260421T132624Z
DTSTART:20260312T130000Z
DTEND:20260312T144000Z
SUMMARY:Основы проектной деятельности
LOCATION:ГК-2 407
END:VEVENT
BEGIN:VEVENT
UID:v1mp@192.168.245.71:3006
SEQUENCE:0
DTSTAMP:20260421T132624Z
DTSTART:20260313T070000Z
DTEND:20260313T084000Z
SUMMARY:Иностранный язык. Профессионально-ориентированный курс
LOCATION:ГЗ 230
END:VEVENT
BEGIN:VEVENT
UID:79ym@192.168.245.71:3006
SEQUENCE:0
DTSTAMP:20260421T132624Z
DTSTART:20260313T090000Z
DTEND:20260313T104000Z
SUMMARY:Архитектура
LOCATION:ГК-2 401
END:VEVENT
BEGIN:VEVENT
UID:jhek@192.168.245.71:3006
SEQUENCE:0
DTSTAMP:20260421T132624Z
DTSTART:20260314T070000Z
DTEND:20260314T084000Z
SUMMARY:Гидравлика
LOCATION:ГЗ 215
END:VEVENT
END:VCALENDAR