BEGIN:VCALENDAR
VERSION:2.0
PRODID:-//spbstu.ru//ical//RU
NAME:Расписание группы 3130801/40009
X-WR-CALNAME:Расписание группы 3130801/40009
TIMEZONE-ID:Europe/Moscow
X-WR-TIMEZONE:Europe/Moscow
BEGIN:VEVENT
UID:tc8s@192.168.245.71:3006
SEQUENCE:0
DTSTAMP:20260421T033410Z
DTSTART:20260413T090000Z
DTEND:20260413T104000Z
SUMMARY:Строительная механика
LOCATION:ГК-2 410
END:VEVENT
BEGIN:VEVENT
UID:s0an@192.168.245.71:3006
SEQUENCE:0
DTSTAMP:20260421T033410Z
DTSTART:20260413T110000Z
DTEND:20260413T124000Z
SUMMARY:Элективная физическая культура и спорт
LOCATION:СК Секции
END:VEVENT
BEGIN:VEVENT
UID:ma89@192.168.245.71:3006
SEQUENCE:0
DTSTAMP:20260421T033410Z
DTSTART:20260414T110000Z
DTEND:20260414T124000Z
SUMMARY:Сопротивление материалов
LOCATION:ГК-2 502
END:VEVENT
BEGIN:VEVENT
UID:9icl@192.168.245.71:3006
SEQUENCE:0
DTSTAMP:20260421T033410Z
DTSTART:20260414T130000Z
DTEND:20260414T144000Z
SUMMARY:Строительные материалы
LOCATION:ГК 117
END:VEVENT
BEGIN:VEVENT
UID:w4fz@192.168.245.71:3006
SEQUENCE:0
DTSTAMP:20260421T033410Z
DTSTART:20260415T110000Z
DTEND:20260415T124000Z
SUMMARY:Гидравлика
LOCATION:ГК 123б
END:VEVENT
BEGIN:VEVENT
UID:4utj@192.168.245.71:3006
SEQUENCE:0
DTSTAMP:20260421T033410Z
DTSTART:20260415T130000Z
DTEND:20260415T144000Z
SUMMARY:Геология
LOCATION:ГЗ 329
END:VEVENT
BEGIN:VEVENT
UID:1uy9@192.168.245.71:3006
SEQUENCE:0
DTSTAMP:20260421T033410Z
DTSTART:20260416T090000Z
DTEND:20260416T104000Z
SUMMARY:Элективная физическая культура и спорт
LOCATION:СК Секции
END:VEVENT
BEGIN:VEVENT
UID:utu3@192.168.245.71:3006
SEQUENCE:0
DTSTAMP:20260421T033410Z
DTSTART:20260416T110000Z
DTEND:20260416T124000Z
SUMMARY:Строительные материалы
LOCATION:ГЗ 305
END:VEVENT
BEGIN:VEVENT
UID:5zyx@192.168.245.71:3006
SEQUENCE:0
DTSTAMP:20260421T033410Z
DTSTART:20260417T050000Z
DTEND:20260417T064000Z
SUMMARY:Строительная механика
LOCATION:ГЗ 215
END:VEVENT
BEGIN:VEVENT
UID:9v6p@192.168.245.71:3006
SEQUENCE:0
DTSTAMP:20260421T033410Z
DTSTART:20260417T070000Z
DTEND:20260417T084000Z
SUMMARY:Иностранный язык. Профессионально-ориентированный курс
LOCATION:ГЗ 228
END:VEVENT
BEGIN:VEVENT
UID:026o@192.168.245.71:3006
SEQUENCE:0
DTSTAMP:20260421T033410Z
DTSTART:20260417T090000Z
DTEND:20260417T104000Z
SUMMARY:Архитектура
LOCATION:ГК-2 401
END:VEVENT
END:VCALENDAR