BEGIN:VCALENDAR
VERSION:2.0
PRODID:-//spbstu.ru//ical//RU
NAME:Расписание группы 3130801/40009
X-WR-CALNAME:Расписание группы 3130801/40009
TIMEZONE-ID:Europe/Moscow
X-WR-TIMEZONE:Europe/Moscow
BEGIN:VEVENT
UID:npdd@192.168.245.71:3006
SEQUENCE:0
DTSTAMP:20260421T215355Z
DTSTART:20260608T080000Z
DTEND:20260608T144000Z
SUMMARY:Строительные материалы
LOCATION:ГК 117
END:VEVENT
BEGIN:VEVENT
UID:45fu@192.168.245.71:3006
SEQUENCE:0
DTSTAMP:20260421T215355Z
DTSTART:20260609T110000Z
DTEND:20260609T140000Z
SUMMARY:Основы проектной деятельности
LOCATION:ГК-2 406
END:VEVENT
BEGIN:VEVENT
UID:z5px@192.168.245.71:3006
SEQUENCE:0
DTSTAMP:20260421T215355Z
DTSTART:20260611T100000Z
DTEND:20260611T130000Z
SUMMARY:Элективная физическая культура и спорт
LOCATION:СК Секции
END:VEVENT
END:VCALENDAR