BEGIN:VCALENDAR
VERSION:2.0
PRODID:-//spbstu.ru//ical//RU
NAME:Расписание группы 3130801/40011
X-WR-CALNAME:Расписание группы 3130801/40011
TIMEZONE-ID:Europe/Moscow
X-WR-TIMEZONE:Europe/Moscow
BEGIN:VEVENT
UID:byc1@192.168.245.71:3006
SEQUENCE:0
DTSTAMP:20260420T190542Z
DTSTART:20260420T070000Z
DTEND:20260420T084000Z
SUMMARY:Строительные материалы
LOCATION:ГК 107А
END:VEVENT
BEGIN:VEVENT
UID:hls9@192.168.245.71:3006
SEQUENCE:0
DTSTAMP:20260420T190542Z
DTSTART:20260420T090000Z
DTEND:20260420T104000Z
SUMMARY:Иностранный язык. Профессионально-ориентированный курс
LOCATION:ГК-2 508
END:VEVENT
BEGIN:VEVENT
UID:498g@192.168.245.71:3006
SEQUENCE:0
DTSTAMP:20260420T190542Z
DTSTART:20260420T110000Z
DTEND:20260420T124000Z
SUMMARY:Элективная физическая культура и спорт
LOCATION:СК Секции
END:VEVENT
BEGIN:VEVENT
UID:gos5@192.168.245.71:3006
SEQUENCE:0
DTSTAMP:20260420T190542Z
DTSTART:20260421T090000Z
DTEND:20260421T104000Z
SUMMARY:Сопротивление материалов
LOCATION:ГЗ 215
END:VEVENT
BEGIN:VEVENT
UID:p9a3@192.168.245.71:3006
SEQUENCE:0
DTSTAMP:20260420T190542Z
DTSTART:20260421T110000Z
DTEND:20260421T124000Z
SUMMARY:Строительная механика
LOCATION:ГК-2 315
END:VEVENT
BEGIN:VEVENT
UID:g76f@192.168.245.71:3006
SEQUENCE:0
DTSTAMP:20260420T190542Z
DTSTART:20260422T110000Z
DTEND:20260422T124000Z
SUMMARY:Сопротивление материалов
LOCATION:ГЗ 211
END:VEVENT
BEGIN:VEVENT
UID:plht@192.168.245.71:3006
SEQUENCE:0
DTSTAMP:20260420T190542Z
DTSTART:20260422T130000Z
DTEND:20260422T144000Z
SUMMARY:Геология
LOCATION:ГЗ 329
END:VEVENT
BEGIN:VEVENT
UID:rc4c@192.168.245.71:3006
SEQUENCE:0
DTSTAMP:20260420T190542Z
DTSTART:20260423T090000Z
DTEND:20260423T104000Z
SUMMARY:Элективная физическая культура и спорт
LOCATION:СК Секции
END:VEVENT
BEGIN:VEVENT
UID:l6mp@192.168.245.71:3006
SEQUENCE:0
DTSTAMP:20260420T190542Z
DTSTART:20260424T070000Z
DTEND:20260424T084000Z
SUMMARY:Архитектура
LOCATION:ГК-2 401
END:VEVENT
BEGIN:VEVENT
UID:rw3o@192.168.245.71:3006
SEQUENCE:0
DTSTAMP:20260420T190542Z
DTSTART:20260424T090000Z
DTEND:20260424T104000Z
SUMMARY:Безопасность жизнедеятельности
LOCATION:ГК 106
END:VEVENT
BEGIN:VEVENT
UID:g0y7@192.168.245.71:3006
SEQUENCE:0
DTSTAMP:20260420T190542Z
DTSTART:20260424T110000Z
DTEND:20260424T124000Z
SUMMARY:Безопасность жизнедеятельности
LOCATION:ГК 119
END:VEVENT
BEGIN:VEVENT
UID:wgw2@192.168.245.71:3006
SEQUENCE:0
DTSTAMP:20260420T190542Z
DTSTART:20260425T070000Z
DTEND:20260425T084000Z
SUMMARY:Гидравлика
LOCATION:ГЗ 215
END:VEVENT
END:VCALENDAR