BEGIN:VCALENDAR
VERSION:2.0
PRODID:-//spbstu.ru//ical//RU
NAME:Расписание группы 3130801/40011
X-WR-CALNAME:Расписание группы 3130801/40011
TIMEZONE-ID:Europe/Moscow
X-WR-TIMEZONE:Europe/Moscow
BEGIN:VEVENT
UID:75ow@192.168.245.71:3006
SEQUENCE:0
DTSTAMP:20260421T013512Z
DTSTART:20260518T070000Z
DTEND:20260518T084000Z
SUMMARY:Строительные материалы
LOCATION:ГК 107А
END:VEVENT
BEGIN:VEVENT
UID:2syr@192.168.245.71:3006
SEQUENCE:0
DTSTAMP:20260421T013512Z
DTSTART:20260518T090000Z
DTEND:20260518T104000Z
SUMMARY:Иностранный язык. Профессионально-ориентированный курс
LOCATION:ГК-2 508
END:VEVENT
BEGIN:VEVENT
UID:g8rg@192.168.245.71:3006
SEQUENCE:0
DTSTAMP:20260421T013512Z
DTSTART:20260518T110000Z
DTEND:20260518T124000Z
SUMMARY:Элективная физическая культура и спорт
LOCATION:СК Секции
END:VEVENT
BEGIN:VEVENT
UID:ucl1@192.168.245.71:3006
SEQUENCE:0
DTSTAMP:20260421T013512Z
DTSTART:20260522T070000Z
DTEND:20260522T084000Z
SUMMARY:Архитектура
LOCATION:ГК-2 401
END:VEVENT
BEGIN:VEVENT
UID:v4t7@192.168.245.71:3006
SEQUENCE:0
DTSTAMP:20260421T013512Z
DTSTART:20260523T070000Z
DTEND:20260523T084000Z
SUMMARY:Гидравлика
LOCATION:ГЗ 215
END:VEVENT
END:VCALENDAR