BEGIN:VCALENDAR
VERSION:2.0
PRODID:-//spbstu.ru//ical//RU
NAME:Расписание группы 3130801/40012
X-WR-CALNAME:Расписание группы 3130801/40012
TIMEZONE-ID:Europe/Moscow
X-WR-TIMEZONE:Europe/Moscow
BEGIN:VEVENT
UID:q3m1@192.168.245.71:3006
SEQUENCE:0
DTSTAMP:20260426T040514Z
DTSTART:20251020T110000Z
DTEND:20251020T124000Z
SUMMARY:Элективная физическая культура и спорт
LOCATION:СК Секции
END:VEVENT
BEGIN:VEVENT
UID:4pr6@192.168.245.71:3006
SEQUENCE:0
DTSTAMP:20260426T040514Z
DTSTART:20251020T130000Z
DTEND:20251020T144000Z
SUMMARY:Электротехника
LOCATION:ГЗ 305
END:VEVENT
BEGIN:VEVENT
UID:mjf9@192.168.245.71:3006
SEQUENCE:0
DTSTAMP:20260426T040514Z
DTSTART:20251021T050000Z
DTEND:20251021T064000Z
SUMMARY:Гидравлика
LOCATION:ГК 123а
END:VEVENT
BEGIN:VEVENT
UID:qixy@192.168.245.71:3006
SEQUENCE:0
DTSTAMP:20260426T040514Z
DTSTART:20251021T070000Z
DTEND:20251021T084000Z
SUMMARY:Строительные материалы
LOCATION:ГК 113
END:VEVENT
BEGIN:VEVENT
UID:as98@192.168.245.71:3006
SEQUENCE:0
DTSTAMP:20260426T040514Z
DTSTART:20251021T090000Z
DTEND:20251021T104000Z
SUMMARY:Сопротивление материалов
LOCATION:ГЗ 215
END:VEVENT
BEGIN:VEVENT
UID:cqza@192.168.245.71:3006
SEQUENCE:0
DTSTAMP:20260426T040514Z
DTSTART:20251021T110000Z
DTEND:20251021T124000Z
SUMMARY:Основы проектирования зданий и сооружений
LOCATION:ГК-2 404
END:VEVENT
BEGIN:VEVENT
UID:b108@192.168.245.71:3006
SEQUENCE:0
DTSTAMP:20260426T040514Z
DTSTART:20251022T070000Z
DTEND:20251022T084000Z
SUMMARY:Сопротивление материалов
LOCATION:ГК-2 512
END:VEVENT
BEGIN:VEVENT
UID:hjx1@192.168.245.71:3006
SEQUENCE:0
DTSTAMP:20260426T040514Z
DTSTART:20251022T090000Z
DTEND:20251022T104000Z
SUMMARY:Иностранный язык: Базовый курс
LOCATION:ГК-2 401а
END:VEVENT
BEGIN:VEVENT
UID:mf56@192.168.245.71:3006
SEQUENCE:0
DTSTAMP:20260426T040514Z
DTSTART:20251022T110000Z
DTEND:20251022T124000Z
SUMMARY:Электротехника
LOCATION:17 уч.к. 310
END:VEVENT
BEGIN:VEVENT
UID:bxm6@192.168.245.71:3006
SEQUENCE:0
DTSTAMP:20260426T040514Z
DTSTART:20251022T110000Z
DTEND:20251022T124000Z
SUMMARY:Электротехника
LOCATION:17 уч.к. 314
END:VEVENT
BEGIN:VEVENT
UID:cck9@192.168.245.71:3006
SEQUENCE:0
DTSTAMP:20260426T040514Z
DTSTART:20251023T070000Z
DTEND:20251023T084000Z
SUMMARY:История России
LOCATION:ГК-2 406
END:VEVENT
BEGIN:VEVENT
UID:1w7j@192.168.245.71:3006
SEQUENCE:0
DTSTAMP:20260426T040514Z
DTSTART:20251023T090000Z
DTEND:20251023T104000Z
SUMMARY:Элективная физическая культура и спорт
LOCATION:СК Секции
END:VEVENT
BEGIN:VEVENT
UID:rbtp@192.168.245.71:3006
SEQUENCE:0
DTSTAMP:20260426T040514Z
DTSTART:20251023T110000Z
DTEND:20251023T124000Z
SUMMARY:Строительные материалы
LOCATION:ГЗ 215
END:VEVENT
BEGIN:VEVENT
UID:80dq@192.168.245.71:3006
SEQUENCE:0
DTSTAMP:20260426T040515Z
DTSTART:20251024T090000Z
DTEND:20251024T104000Z
SUMMARY:Теоретическая механика
LOCATION:ГЗ 215
END:VEVENT
BEGIN:VEVENT
UID:0rbr@192.168.245.71:3006
SEQUENCE:0
DTSTAMP:20260426T040515Z
DTSTART:20251024T110000Z
DTEND:20251024T124000Z
SUMMARY:Теоретическая механика
LOCATION:ГК-2 509
END:VEVENT
BEGIN:VEVENT
UID:48ns@192.168.245.71:3006
SEQUENCE:0
DTSTAMP:20260426T040515Z
DTSTART:20251024T130000Z
DTEND:20251024T144000Z
SUMMARY:Высшая математика
LOCATION:ГК-2 312
END:VEVENT
BEGIN:VEVENT
UID:8wd3@192.168.245.71:3006
SEQUENCE:0
DTSTAMP:20260426T040515Z
DTSTART:20251025T070000Z
DTEND:20251025T084000Z
SUMMARY:Гидравлика
LOCATION:ГЗ 215
END:VEVENT
BEGIN:VEVENT
UID:z94b@192.168.245.71:3006
SEQUENCE:0
DTSTAMP:20260426T040515Z
DTSTART:20251025T090000Z
DTEND:20251025T104000Z
SUMMARY:Архитектура
LOCATION:ГК-2 110
END:VEVENT
END:VCALENDAR