BEGIN:VCALENDAR
VERSION:2.0
PRODID:-//spbstu.ru//ical//RU
NAME:Расписание группы 3130801/40012
X-WR-CALNAME:Расписание группы 3130801/40012
TIMEZONE-ID:Europe/Moscow
X-WR-TIMEZONE:Europe/Moscow
BEGIN:VEVENT
UID:1d2v@192.168.245.71:3006
SEQUENCE:0
DTSTAMP:20260424T084648Z
DTSTART:20251216T050000Z
DTEND:20251216T064000Z
SUMMARY:Гидравлика
LOCATION:ГК 123а
END:VEVENT
BEGIN:VEVENT
UID:zlfp@192.168.245.71:3006
SEQUENCE:0
DTSTAMP:20260424T084648Z
DTSTART:20251216T070000Z
DTEND:20251216T084000Z
SUMMARY:Строительные материалы
LOCATION:ГК 113
END:VEVENT
BEGIN:VEVENT
UID:imid@192.168.245.71:3006
SEQUENCE:0
DTSTAMP:20260424T084648Z
DTSTART:20251216T090000Z
DTEND:20251216T104000Z
SUMMARY:Сопротивление материалов
LOCATION:ГЗ 215
END:VEVENT
BEGIN:VEVENT
UID:2s3b@192.168.245.71:3006
SEQUENCE:0
DTSTAMP:20260424T084648Z
DTSTART:20251216T110000Z
DTEND:20251216T124000Z
SUMMARY:Основы проектирования зданий и сооружений
LOCATION:ГК-2 404
END:VEVENT
BEGIN:VEVENT
UID:9s81@192.168.245.71:3006
SEQUENCE:0
DTSTAMP:20260424T084648Z
DTSTART:20251217T070000Z
DTEND:20251217T084000Z
SUMMARY:История России
LOCATION:ГК-2 502
END:VEVENT
BEGIN:VEVENT
UID:5iiq@192.168.245.71:3006
SEQUENCE:0
DTSTAMP:20260424T084648Z
DTSTART:20251217T090000Z
DTEND:20251217T130000Z
SUMMARY:История России
LOCATION:ГК-2 502
END:VEVENT
BEGIN:VEVENT
UID:wqur@192.168.245.71:3006
SEQUENCE:0
DTSTAMP:20260424T084648Z
DTSTART:20251218T070000Z
DTEND:20251218T084000Z
SUMMARY:Архитектура
LOCATION:ГК-2 412а
END:VEVENT
BEGIN:VEVENT
UID:ag3j@192.168.245.71:3006
SEQUENCE:0
DTSTAMP:20260424T084648Z
DTSTART:20251218T090000Z
DTEND:20251218T130000Z
SUMMARY:Архитектура
LOCATION:ГК-2 412а
END:VEVENT
BEGIN:VEVENT
UID:xbmx@192.168.245.71:3006
SEQUENCE:0
DTSTAMP:20260424T084648Z
DTSTART:20251219T110000Z
DTEND:20251219T140000Z
SUMMARY:Цифровая аналитика
LOCATION:ГК-2 402
END:VEVENT
BEGIN:VEVENT
UID:deh2@192.168.245.71:3006
SEQUENCE:0
DTSTAMP:20260424T084648Z
DTSTART:20251220T070000Z
DTEND:20251220T084000Z
SUMMARY:Гидравлика
LOCATION:ГК 123б
END:VEVENT
BEGIN:VEVENT
UID:q1tj@192.168.245.71:3006
SEQUENCE:0
DTSTAMP:20260424T084648Z
DTSTART:20251220T090000Z
DTEND:20251220T140000Z
SUMMARY:Гидравлика
LOCATION:ГК 123б
END:VEVENT
END:VCALENDAR