BEGIN:VCALENDAR
VERSION:2.0
PRODID:-//spbstu.ru//ical//RU
NAME:Расписание группы 3130801/40012
X-WR-CALNAME:Расписание группы 3130801/40012
TIMEZONE-ID:Europe/Moscow
X-WR-TIMEZONE:Europe/Moscow
BEGIN:VEVENT
UID:4lh9@192.168.245.71:3006
SEQUENCE:0
DTSTAMP:20260421T201034Z
DTSTART:20260511T090000Z
DTEND:20260511T104000Z
SUMMARY:Строительные материалы
LOCATION:ГК 113
END:VEVENT
BEGIN:VEVENT
UID:6adl@192.168.245.71:3006
SEQUENCE:0
DTSTAMP:20260421T201034Z
DTSTART:20260511T110000Z
DTEND:20260511T124000Z
SUMMARY:Элективная физическая культура и спорт
LOCATION:СК Секции
END:VEVENT
BEGIN:VEVENT
UID:qczi@192.168.245.71:3006
SEQUENCE:0
DTSTAMP:20260421T201034Z
DTSTART:20260511T130000Z
DTEND:20260511T144000Z
SUMMARY:Архитектура
LOCATION:ГЗ 215
END:VEVENT
BEGIN:VEVENT
UID:8x2j@192.168.245.71:3006
SEQUENCE:0
DTSTAMP:20260421T201034Z
DTSTART:20260512T070000Z
DTEND:20260512T084000Z
SUMMARY:Строительная механика
LOCATION:ГК-2 301а
END:VEVENT
BEGIN:VEVENT
UID:wqly@192.168.245.71:3006
SEQUENCE:0
DTSTAMP:20260421T201034Z
DTSTART:20260513T130000Z
DTEND:20260513T144000Z
SUMMARY:Геология
LOCATION:ГЗ 329
END:VEVENT
BEGIN:VEVENT
UID:own0@192.168.245.71:3006
SEQUENCE:0
DTSTAMP:20260421T201034Z
DTSTART:20260514T050000Z
DTEND:20260514T064000Z
SUMMARY:Архитектура
LOCATION:ГК-2 310
END:VEVENT
BEGIN:VEVENT
UID:em00@192.168.245.71:3006
SEQUENCE:0
DTSTAMP:20260421T201034Z
DTSTART:20260514T090000Z
DTEND:20260514T104000Z
SUMMARY:Элективная физическая культура и спорт
LOCATION:СК Секции
END:VEVENT
BEGIN:VEVENT
UID:cl9i@192.168.245.71:3006
SEQUENCE:0
DTSTAMP:20260421T201034Z
DTSTART:20260515T050000Z
DTEND:20260515T064000Z
SUMMARY:Строительная механика
LOCATION:ГЗ 215
END:VEVENT
BEGIN:VEVENT
UID:r7lp@192.168.245.71:3006
SEQUENCE:0
DTSTAMP:20260421T201034Z
DTSTART:20260515T070000Z
DTEND:20260515T084000Z
SUMMARY:Сопротивление материалов
LOCATION:ГК-2 503
END:VEVENT
BEGIN:VEVENT
UID:wyyj@192.168.245.71:3006
SEQUENCE:0
DTSTAMP:20260421T201034Z
DTSTART:20260516T090000Z
DTEND:20260516T104000Z
SUMMARY:Иностранный язык. Профессионально-ориентированный курс
LOCATION:ГК-2 309
END:VEVENT
END:VCALENDAR