BEGIN:VCALENDAR
VERSION:2.0
PRODID:-//spbstu.ru//ical//RU
NAME:Расписание группы 3130801/40012
X-WR-CALNAME:Расписание группы 3130801/40012
TIMEZONE-ID:Europe/Moscow
X-WR-TIMEZONE:Europe/Moscow
BEGIN:VEVENT
UID:yyd8@192.168.245.71:3006
SEQUENCE:0
DTSTAMP:20260421T150928Z
DTSTART:20260504T090000Z
DTEND:20260504T104000Z
SUMMARY:Строительные материалы
LOCATION:ГК 107А
END:VEVENT
BEGIN:VEVENT
UID:8ejk@192.168.245.71:3006
SEQUENCE:0
DTSTAMP:20260421T150928Z
DTSTART:20260504T110000Z
DTEND:20260504T124000Z
SUMMARY:Элективная физическая культура и спорт
LOCATION:СК Секции
END:VEVENT
BEGIN:VEVENT
UID:puk5@192.168.245.71:3006
SEQUENCE:0
DTSTAMP:20260421T150928Z
DTSTART:20260505T050000Z
DTEND:20260505T064000Z
SUMMARY:Гидравлика
LOCATION:ГК 123б
END:VEVENT
BEGIN:VEVENT
UID:eesb@192.168.245.71:3006
SEQUENCE:0
DTSTAMP:20260421T150928Z
DTSTART:20260505T070000Z
DTEND:20260505T084000Z
SUMMARY:Строительная механика
LOCATION:ГК-2 301а
END:VEVENT
BEGIN:VEVENT
UID:l3vj@192.168.245.71:3006
SEQUENCE:0
DTSTAMP:20260421T150928Z
DTSTART:20260505T090000Z
DTEND:20260505T104000Z
SUMMARY:Сопротивление материалов
LOCATION:ГЗ 215
END:VEVENT
BEGIN:VEVENT
UID:x1x0@192.168.245.71:3006
SEQUENCE:0
DTSTAMP:20260421T150928Z
DTSTART:20260506T130000Z
DTEND:20260506T144000Z
SUMMARY:Геология
LOCATION:ГЗ 329
END:VEVENT
BEGIN:VEVENT
UID:9ugj@192.168.245.71:3006
SEQUENCE:0
DTSTAMP:20260421T150928Z
DTSTART:20260507T090000Z
DTEND:20260507T104000Z
SUMMARY:Элективная физическая культура и спорт
LOCATION:СК Секции
END:VEVENT
BEGIN:VEVENT
UID:w7kq@192.168.245.71:3006
SEQUENCE:0
DTSTAMP:20260421T150928Z
DTSTART:20260508T070000Z
DTEND:20260508T084000Z
SUMMARY:Сопротивление материалов
LOCATION:ГК-2 503
END:VEVENT
END:VCALENDAR