BEGIN:VCALENDAR
VERSION:2.0
PRODID:-//spbstu.ru//ical//RU
NAME:Расписание группы 3132001/40002
X-WR-CALNAME:Расписание группы 3132001/40002
TIMEZONE-ID:Europe/Moscow
X-WR-TIMEZONE:Europe/Moscow
BEGIN:VEVENT
UID:3g5v@192.168.245.71:3006
SEQUENCE:0
DTSTAMP:20260423T191701Z
DTSTART:20251215T070000Z
DTEND:20251215T084000Z
SUMMARY:Высшая математика
LOCATION:ГК 316
END:VEVENT
BEGIN:VEVENT
UID:j95l@192.168.245.71:3006
SEQUENCE:0
DTSTAMP:20260423T191701Z
DTSTART:20251215T090000Z
DTEND:20251215T104000Z
SUMMARY:Гидравлика
LOCATION:ГК 439
END:VEVENT
BEGIN:VEVENT
UID:2xpk@192.168.245.71:3006
SEQUENCE:0
DTSTAMP:20260423T191701Z
DTSTART:20251216T110000Z
DTEND:20251216T124000Z
SUMMARY:Иностранный язык: Базовый курс
LOCATION:ГК 321
END:VEVENT
BEGIN:VEVENT
UID:gnk4@192.168.245.71:3006
SEQUENCE:0
DTSTAMP:20260423T191701Z
DTSTART:20251216T130000Z
DTEND:20251216T144000Z
SUMMARY:Высшая математика
LOCATION:ГК 438
END:VEVENT
BEGIN:VEVENT
UID:ejzc@192.168.245.71:3006
SEQUENCE:0
DTSTAMP:20260423T191701Z
DTSTART:20251217T090000Z
DTEND:20251217T104000Z
SUMMARY:Теплотехника
LOCATION:ГК 439
END:VEVENT
BEGIN:VEVENT
UID:ug56@192.168.245.71:3006
SEQUENCE:0
DTSTAMP:20260423T191701Z
DTSTART:20251218T060000Z
DTEND:20251218T070000Z
SUMMARY:Иностранный язык: Базовый курс
LOCATION:ГК 321
END:VEVENT
BEGIN:VEVENT
UID:1fwj@192.168.245.71:3006
SEQUENCE:0
DTSTAMP:20260423T191701Z
DTSTART:20251218T090000Z
DTEND:20251218T104000Z
SUMMARY:Иностранный язык: Базовый курс
LOCATION:ГК 321
END:VEVENT
END:VCALENDAR