BEGIN:VCALENDAR
VERSION:2.0
PRODID:-//spbstu.ru//ical//RU
NAME:Расписание группы 3132001/40002
X-WR-CALNAME:Расписание группы 3132001/40002
TIMEZONE-ID:Europe/Moscow
X-WR-TIMEZONE:Europe/Moscow
BEGIN:VEVENT
UID:3krp@192.168.245.71:3006
SEQUENCE:0
DTSTAMP:20260423T191601Z
DTSTART:20251208T070000Z
DTEND:20251208T084000Z
SUMMARY:Медико-биологические основы безопасности
LOCATION:ГК 316
END:VEVENT
BEGIN:VEVENT
UID:j6r7@192.168.245.71:3006
SEQUENCE:0
DTSTAMP:20260423T191601Z
DTSTART:20251208T090000Z
DTEND:20251208T104000Z
SUMMARY:Гидравлика
LOCATION:ГК 321
END:VEVENT
BEGIN:VEVENT
UID:cey2@192.168.245.71:3006
SEQUENCE:0
DTSTAMP:20260423T191601Z
DTSTART:20251208T110000Z
DTEND:20251208T124000Z
SUMMARY:Элективная физическая культура и спорт
LOCATION:СК Секции
END:VEVENT
BEGIN:VEVENT
UID:uh2t@192.168.245.71:3006
SEQUENCE:0
DTSTAMP:20260423T191601Z
DTSTART:20251209T090000Z
DTEND:20251209T104000Z
SUMMARY:История России
LOCATION:ГК 438
END:VEVENT
BEGIN:VEVENT
UID:4m5e@192.168.245.71:3006
SEQUENCE:0
DTSTAMP:20260423T191601Z
DTSTART:20251209T110000Z
DTEND:20251209T124000Z
SUMMARY:Иностранный язык: Базовый курс
LOCATION:ГК 321
END:VEVENT
BEGIN:VEVENT
UID:mv8j@192.168.245.71:3006
SEQUENCE:0
DTSTAMP:20260423T191601Z
DTSTART:20251209T130000Z
DTEND:20251209T144000Z
SUMMARY:Высшая математика
LOCATION:ГК 438
END:VEVENT
BEGIN:VEVENT
UID:6zar@192.168.245.71:3006
SEQUENCE:0
DTSTAMP:20260423T191601Z
DTSTART:20251210T110000Z
DTEND:20251210T124000Z
SUMMARY:Теоретическая механика
LOCATION:ГК 316
END:VEVENT
BEGIN:VEVENT
UID:6wlb@192.168.245.71:3006
SEQUENCE:0
DTSTAMP:20260423T191601Z
DTSTART:20251211T110000Z
DTEND:20251211T124000Z
SUMMARY:Теоретическая механика
LOCATION:ГК 316
END:VEVENT
BEGIN:VEVENT
UID:vbdq@192.168.245.71:3006
SEQUENCE:0
DTSTAMP:20260423T191601Z
DTSTART:20251211T130000Z
DTEND:20251211T144000Z
SUMMARY:Медико-биологические основы безопасности
LOCATION:ГК 438
END:VEVENT
BEGIN:VEVENT
UID:it4v@192.168.245.71:3006
SEQUENCE:0
DTSTAMP:20260423T191601Z
DTSTART:20251212T070000Z
DTEND:20251212T084000Z
SUMMARY:Теплотехника
LOCATION:ГК 316
END:VEVENT
BEGIN:VEVENT
UID:g7az@192.168.245.71:3006
SEQUENCE:0
DTSTAMP:20260423T191601Z
DTSTART:20251212T090000Z
DTEND:20251212T104000Z
SUMMARY:Электротехника
LOCATION:ГЗ ЭиЭ
END:VEVENT
BEGIN:VEVENT
UID:c0wi@192.168.245.71:3006
SEQUENCE:0
DTSTAMP:20260423T191601Z
DTSTART:20251212T090000Z
DTEND:20251212T104000Z
SUMMARY:Электротехника
LOCATION:ГЗ ЭиЭ
END:VEVENT
BEGIN:VEVENT
UID:uwjk@192.168.245.71:3006
SEQUENCE:0
DTSTAMP:20260423T191601Z
DTSTART:20251212T110000Z
DTEND:20251212T124000Z
SUMMARY:Теплотехника
LOCATION:ГК 316
END:VEVENT
BEGIN:VEVENT
UID:fzqu@192.168.245.71:3006
SEQUENCE:0
DTSTAMP:20260423T191601Z
DTSTART:20251212T130000Z
DTEND:20251212T144000Z
SUMMARY:Цифровая аналитика
LOCATION:ГК 317
END:VEVENT
END:VCALENDAR