BEGIN:VCALENDAR
VERSION:2.0
PRODID:-//spbstu.ru//ical//RU
NAME:Расписание группы 3132001/40002
X-WR-CALNAME:Расписание группы 3132001/40002
TIMEZONE-ID:Europe/Moscow
X-WR-TIMEZONE:Europe/Moscow
BEGIN:VEVENT
UID:cxqo@192.168.245.71:3006
SEQUENCE:0
DTSTAMP:20260422T163237Z
DTSTART:20260112T090000Z
DTEND:20260112T104000Z
SUMMARY:Теоретическая механика
LOCATION:ГК 316
END:VEVENT
BEGIN:VEVENT
UID:u1tb@192.168.245.71:3006
SEQUENCE:0
DTSTAMP:20260422T163237Z
DTSTART:20260113T130000Z
DTEND:20260113T164000Z
SUMMARY:Теоретическая механика
LOCATION:ГК-2 401
END:VEVENT
BEGIN:VEVENT
UID:5q4s@192.168.245.71:3006
SEQUENCE:0
DTSTAMP:20260422T163237Z
DTSTART:20260115T090000Z
DTEND:20260115T104000Z
SUMMARY:Высшая математика
LOCATION:ГК 316
END:VEVENT
BEGIN:VEVENT
UID:ew8w@192.168.245.71:3006
SEQUENCE:0
DTSTAMP:20260422T163237Z
DTSTART:20260116T110000Z
DTEND:20260116T144000Z
SUMMARY:Высшая математика
LOCATION:ГК 316
END:VEVENT
END:VCALENDAR