BEGIN:VCALENDAR
VERSION:2.0
PRODID:-//spbstu.ru//ical//RU
NAME:Расписание группы 3132001/40002
X-WR-CALNAME:Расписание группы 3132001/40002
TIMEZONE-ID:Europe/Moscow
X-WR-TIMEZONE:Europe/Moscow
BEGIN:VEVENT
UID:x0xs@192.168.245.71:3006
SEQUENCE:0
DTSTAMP:20260421T141718Z
DTSTART:20260330T070000Z
DTEND:20260330T084000Z
SUMMARY:Метрология и измерительная техника
LOCATION:3 к. 508
END:VEVENT
BEGIN:VEVENT
UID:ggw9@192.168.245.71:3006
SEQUENCE:0
DTSTAMP:20260421T141718Z
DTSTART:20260330T090000Z
DTEND:20260330T104000Z
SUMMARY:Управление техносферной безопасностью
LOCATION:ГК 449
END:VEVENT
BEGIN:VEVENT
UID:o94w@192.168.245.71:3006
SEQUENCE:0
DTSTAMP:20260421T141718Z
DTSTART:20260330T110000Z
DTEND:20260330T124000Z
SUMMARY:Элективная  физическая культура и спорт
LOCATION:СК Секции
END:VEVENT
BEGIN:VEVENT
UID:raqk@192.168.245.71:3006
SEQUENCE:0
DTSTAMP:20260421T141718Z
DTSTART:20260331T070000Z
DTEND:20260331T084000Z
SUMMARY:Управление техносферной безопасностью
LOCATION:ГК 439
END:VEVENT
BEGIN:VEVENT
UID:c7l5@192.168.245.71:3006
SEQUENCE:0
DTSTAMP:20260421T141718Z
DTSTART:20260331T090000Z
DTEND:20260331T104000Z
SUMMARY:Иностранный язык. Профессионально-ориентированный курс
LOCATION:ГК 321
END:VEVENT
BEGIN:VEVENT
UID:6q5t@192.168.245.71:3006
SEQUENCE:0
DTSTAMP:20260421T141718Z
DTSTART:20260401T070000Z
DTEND:20260401T084000Z
SUMMARY:Сопротивление материалов
LOCATION:Мех. к. СМ №1
END:VEVENT
BEGIN:VEVENT
UID:aj9t@192.168.245.71:3006
SEQUENCE:0
DTSTAMP:20260421T141718Z
DTSTART:20260402T070000Z
DTEND:20260402T084000Z
SUMMARY:Метрология и измерительная техника
LOCATION:3 к. 508
END:VEVENT
BEGIN:VEVENT
UID:m4qp@192.168.245.71:3006
SEQUENCE:0
DTSTAMP:20260421T141718Z
DTSTART:20260402T090000Z
DTEND:20260402T104000Z
SUMMARY:Элективная  физическая культура и спорт
LOCATION:СК Секции
END:VEVENT
BEGIN:VEVENT
UID:m621@192.168.245.71:3006
SEQUENCE:0
DTSTAMP:20260421T141718Z
DTSTART:20260402T130000Z
DTEND:20260402T134500Z
SUMMARY:Основы проектной деятельности
LOCATION:ГК 449
END:VEVENT
BEGIN:VEVENT
UID:dxal@192.168.245.71:3006
SEQUENCE:0
DTSTAMP:20260421T141718Z
DTSTART:20260403T110000Z
DTEND:20260403T124000Z
SUMMARY:Иностранный язык. Профессионально-ориентированный курс
LOCATION:ГК 321
END:VEVENT
END:VCALENDAR