BEGIN:VCALENDAR
VERSION:2.0
PRODID:-//spbstu.ru//ical//RU
NAME:Расписание группы 3135401/40001
X-WR-CALNAME:Расписание группы 3135401/40001
TIMEZONE-ID:Europe/Moscow
X-WR-TIMEZONE:Europe/Moscow
BEGIN:VEVENT
UID:e4ym@192.168.245.71:3006
SEQUENCE:0
DTSTAMP:20260424T084503Z
DTSTART:20251124T070000Z
DTEND:20251124T084000Z
SUMMARY:Академическая скульптура и пластическое моделирование
LOCATION:15 к. 600а
END:VEVENT
BEGIN:VEVENT
UID:7jq9@192.168.245.71:3006
SEQUENCE:0
DTSTAMP:20260424T084503Z
DTSTART:20251124T090000Z
DTEND:20251124T104000Z
SUMMARY:Академическая скульптура и пластическое моделирование
LOCATION:15 к. 600а
END:VEVENT
BEGIN:VEVENT
UID:5dek@192.168.245.71:3006
SEQUENCE:0
DTSTAMP:20260424T084503Z
DTSTART:20251124T110000Z
DTEND:20251124T124000Z
SUMMARY:Элективная физическая культура и спорт
LOCATION:СК Секции
END:VEVENT
BEGIN:VEVENT
UID:yemx@192.168.245.71:3006
SEQUENCE:0
DTSTAMP:20260424T084503Z
DTSTART:20251124T130000Z
DTEND:20251124T144000Z
SUMMARY:Цифровая аналитика
LOCATION:ГЗ 303 (1)
END:VEVENT
BEGIN:VEVENT
UID:68zt@192.168.245.71:3006
SEQUENCE:0
DTSTAMP:20260424T084503Z
DTSTART:20251125T080000Z
DTEND:20251125T104000Z
SUMMARY:Живопись
LOCATION:ГЗ 314
END:VEVENT
BEGIN:VEVENT
UID:g1bd@192.168.245.71:3006
SEQUENCE:0
DTSTAMP:20260424T084503Z
DTSTART:20251125T110000Z
DTEND:20251125T124000Z
SUMMARY:Основы дизайн-проектирования
LOCATION:НИК В2.22 (1)
END:VEVENT
BEGIN:VEVENT
UID:r42a@192.168.245.71:3006
SEQUENCE:0
DTSTAMP:20260424T084503Z
DTSTART:20251125T130000Z
DTEND:20251125T135000Z
SUMMARY:Основы дизайн-проектирования
LOCATION:НИК В2.22 (1)
END:VEVENT
BEGIN:VEVENT
UID:16vx@192.168.245.71:3006
SEQUENCE:0
DTSTAMP:20260424T084503Z
DTSTART:20251126T070000Z
DTEND:20251126T084000Z
SUMMARY:Информационные технологии в дизайне
LOCATION:ГЗ 301 А
END:VEVENT
BEGIN:VEVENT
UID:p7cf@192.168.245.71:3006
SEQUENCE:0
DTSTAMP:20260424T084503Z
DTSTART:20251126T100000Z
DTEND:20251126T124000Z
SUMMARY:Основы мастерства
LOCATION:ГЗ 304
END:VEVENT
BEGIN:VEVENT
UID:06ru@192.168.245.71:3006
SEQUENCE:0
DTSTAMP:20260424T084503Z
DTSTART:20251126T130000Z
DTEND:20251126T144000Z
SUMMARY:Модуль саморазвития (SoftSkills)
LOCATION:DL Дистанционно
END:VEVENT
BEGIN:VEVENT
UID:jwnk@192.168.245.71:3006
SEQUENCE:0
DTSTAMP:20260424T084503Z
DTSTART:20251127T060000Z
DTEND:20251127T084000Z
SUMMARY:Рисунок
LOCATION:ГЗ 314
END:VEVENT
BEGIN:VEVENT
UID:arkh@192.168.245.71:3006
SEQUENCE:0
DTSTAMP:20260424T084503Z
DTSTART:20251127T090000Z
DTEND:20251127T104000Z
SUMMARY:Элективная физическая культура и спорт
LOCATION:СК Секции
END:VEVENT
BEGIN:VEVENT
UID:jl2x@192.168.245.71:3006
SEQUENCE:0
DTSTAMP:20260424T084503Z
DTSTART:20251128T110000Z
DTEND:20251128T124000Z
SUMMARY:Иностранный язык: Базовый курс
LOCATION:ГК-2 502
END:VEVENT
BEGIN:VEVENT
UID:9onc@192.168.245.71:3006
SEQUENCE:0
DTSTAMP:20260424T084503Z
DTSTART:20251129T060000Z
DTEND:20251129T084000Z
SUMMARY:Иностранный язык: Русский язык как иностранный
LOCATION:ГЗ 229
END:VEVENT
BEGIN:VEVENT
UID:tdtc@192.168.245.71:3006
SEQUENCE:0
DTSTAMP:20260424T084503Z
DTSTART:20251129T090000Z
DTEND:20251129T104000Z
SUMMARY:Модуль саморазвития (SoftSkills)
LOCATION:DL Дистанционно
END:VEVENT
BEGIN:VEVENT
UID:n3n3@192.168.245.71:3006
SEQUENCE:0
DTSTAMP:20260424T084503Z
DTSTART:20251129T110000Z
DTEND:20251129T124000Z
SUMMARY:Модуль саморазвития (SoftSkills)
LOCATION:DL Дистанционно
END:VEVENT
END:VCALENDAR