BEGIN:VCALENDAR
VERSION:2.0
PRODID:-//spbstu.ru//ical//RU
NAME:Расписание группы 3135401/40001
X-WR-CALNAME:Расписание группы 3135401/40001
TIMEZONE-ID:Europe/Moscow
X-WR-TIMEZONE:Europe/Moscow
BEGIN:VEVENT
UID:cevu@192.168.245.71:3006
SEQUENCE:0
DTSTAMP:20260422T011328Z
DTSTART:20260216T090000Z
DTEND:20260216T104000Z
SUMMARY:Информационные технологии в дизайне
LOCATION:ГЗ 303 (3)
END:VEVENT
BEGIN:VEVENT
UID:26in@192.168.245.71:3006
SEQUENCE:0
DTSTAMP:20260422T011328Z
DTSTART:20260216T110000Z
DTEND:20260216T124000Z
SUMMARY:Элективная физическая культура и спорт
LOCATION:СК Секции
END:VEVENT
BEGIN:VEVENT
UID:0ysn@192.168.245.71:3006
SEQUENCE:0
DTSTAMP:20260422T011328Z
DTSTART:20260216T130000Z
DTEND:20260216T144000Z
SUMMARY:Допечатная подготовка
LOCATION:ГЗ 224
END:VEVENT
BEGIN:VEVENT
UID:gulm@192.168.245.71:3006
SEQUENCE:0
DTSTAMP:20260422T011328Z
DTSTART:20260216T150000Z
DTEND:20260216T164000Z
SUMMARY:Академическая скульптура и пластическое моделирование
LOCATION:15 к. 600а
END:VEVENT
BEGIN:VEVENT
UID:neuh@192.168.245.71:3006
SEQUENCE:0
DTSTAMP:20260422T011328Z
DTSTART:20260217T090000Z
DTEND:20260217T104000Z
SUMMARY:Допечатная подготовка
LOCATION:НИК В2.22 (1)
END:VEVENT
BEGIN:VEVENT
UID:lpm3@192.168.245.71:3006
SEQUENCE:0
DTSTAMP:20260422T011328Z
DTSTART:20260217T120000Z
DTEND:20260217T143000Z
SUMMARY:Основы мастерства
LOCATION:ГЗ 301 А
END:VEVENT
BEGIN:VEVENT
UID:ey70@192.168.245.71:3006
SEQUENCE:0
DTSTAMP:20260422T011328Z
DTSTART:20260217T150000Z
DTEND:20260217T164000Z
SUMMARY:Живопись
LOCATION:ГЗ 314
END:VEVENT
BEGIN:VEVENT
UID:cxo3@192.168.245.71:3006
SEQUENCE:0
DTSTAMP:20260422T011328Z
DTSTART:20260218T080000Z
DTEND:20260218T104000Z
SUMMARY:Основы дизайн-проектирования
LOCATION:ГЗ 303 (3)
END:VEVENT
BEGIN:VEVENT
UID:kx1l@192.168.245.71:3006
SEQUENCE:0
DTSTAMP:20260422T011328Z
DTSTART:20260218T110000Z
DTEND:20260218T124000Z
SUMMARY:История дизайна
LOCATION:ГЗ 257
END:VEVENT
BEGIN:VEVENT
UID:fm0m@192.168.245.71:3006
SEQUENCE:0
DTSTAMP:20260422T011328Z
DTSTART:20260219T090000Z
DTEND:20260219T104000Z
SUMMARY:Элективная физическая культура и спорт
LOCATION:СК Секции
END:VEVENT
BEGIN:VEVENT
UID:c3bl@192.168.245.71:3006
SEQUENCE:0
DTSTAMP:20260422T011328Z
DTSTART:20260219T110000Z
DTEND:20260219T124000Z
SUMMARY:Иностранный язык. Профессионально-ориентированный курс
LOCATION:ГЗ 226
END:VEVENT
BEGIN:VEVENT
UID:vc0z@192.168.245.71:3006
SEQUENCE:0
DTSTAMP:20260422T011328Z
DTSTART:20260220T060000Z
DTEND:20260220T084000Z
SUMMARY:Живопись
LOCATION:ГЗ 314
END:VEVENT
BEGIN:VEVENT
UID:hgl4@192.168.245.71:3006
SEQUENCE:0
DTSTAMP:20260422T011328Z
DTSTART:20260220T090000Z
DTEND:20260220T114000Z
SUMMARY:Технический рисунок
LOCATION:ГЗ 314
END:VEVENT
END:VCALENDAR