BEGIN:VCALENDAR
VERSION:2.0
PRODID:-//spbstu.ru//ical//RU
NAME:Расписание группы 3135401/40003
X-WR-CALNAME:Расписание группы 3135401/40003
TIMEZONE-ID:Europe/Moscow
X-WR-TIMEZONE:Europe/Moscow
BEGIN:VEVENT
UID:2dd4@192.168.245.71:3006
SEQUENCE:0
DTSTAMP:20260422T205053Z
DTSTART:20260119T070000Z
DTEND:20260119T084000Z
SUMMARY:Основы мастерства
LOCATION:ГЗ 304
END:VEVENT
BEGIN:VEVENT
UID:fuem@192.168.245.71:3006
SEQUENCE:0
DTSTAMP:20260422T205053Z
DTSTART:20260121T070000Z
DTEND:20260121T120000Z
SUMMARY:Основы мастерства
LOCATION:ГЗ 304
END:VEVENT
BEGIN:VEVENT
UID:evzf@192.168.245.71:3006
SEQUENCE:0
DTSTAMP:20260422T205053Z
DTSTART:20260122T070000Z
DTEND:20260122T084000Z
SUMMARY:Основы дизайн-проектирования
LOCATION:НИК Г3.42
END:VEVENT
BEGIN:VEVENT
UID:32xq@192.168.245.71:3006
SEQUENCE:0
DTSTAMP:20260422T205053Z
DTSTART:20260122T090000Z
DTEND:20260122T140000Z
SUMMARY:Основы дизайн-проектирования
LOCATION:НИК Г3.42
END:VEVENT
BEGIN:VEVENT
UID:1dnb@192.168.245.71:3006
SEQUENCE:0
DTSTAMP:20260422T205053Z
DTSTART:20260123T070000Z
DTEND:20260123T084000Z
SUMMARY:Иностранный язык: Базовый курс
LOCATION:ГЗ 230
END:VEVENT
BEGIN:VEVENT
UID:vds8@192.168.245.71:3006
SEQUENCE:0
DTSTAMP:20260422T205053Z
DTSTART:20260123T090000Z
DTEND:20260123T140000Z
SUMMARY:Иностранный язык: Базовый курс
LOCATION:ГЗ 230
END:VEVENT
BEGIN:VEVENT
UID:7tpq@192.168.245.71:3006
SEQUENCE:0
DTSTAMP:20260422T205053Z
DTSTART:20260124T070000Z
DTEND:20260124T084000Z
SUMMARY:История России
LOCATION:ГЗ 303 (1)
END:VEVENT
BEGIN:VEVENT
UID:374u@192.168.245.71:3006
SEQUENCE:0
DTSTAMP:20260422T205053Z
DTSTART:20260124T090000Z
DTEND:20260124T140000Z
SUMMARY:История России
LOCATION:ГЗ 303 (1)
END:VEVENT
END:VCALENDAR