BEGIN:VCALENDAR
VERSION:2.0
PRODID:-//spbstu.ru//ical//RU
NAME:Расписание группы 3135401/40003
X-WR-CALNAME:Расписание группы 3135401/40003
TIMEZONE-ID:Europe/Moscow
X-WR-TIMEZONE:Europe/Moscow
BEGIN:VEVENT
UID:aqx3@192.168.245.71:3006
SEQUENCE:0
DTSTAMP:20260421T070648Z
DTSTART:20260330T090000Z
DTEND:20260330T104000Z
SUMMARY:Иностранный язык. Профессионально-ориентированный курс
LOCATION:ГК-2 401
END:VEVENT
BEGIN:VEVENT
UID:dcj4@192.168.245.71:3006
SEQUENCE:0
DTSTAMP:20260421T070648Z
DTSTART:20260330T110000Z
DTEND:20260330T124000Z
SUMMARY:Элективная физическая культура и спорт
LOCATION:СК Секции
END:VEVENT
BEGIN:VEVENT
UID:82cf@192.168.245.71:3006
SEQUENCE:0
DTSTAMP:20260421T070648Z
DTSTART:20260330T130000Z
DTEND:20260330T144000Z
SUMMARY:Допечатная подготовка
LOCATION:ГЗ 224
END:VEVENT
BEGIN:VEVENT
UID:smkm@192.168.245.71:3006
SEQUENCE:0
DTSTAMP:20260421T070648Z
DTSTART:20260331T064000Z
DTEND:20260331T085500Z
SUMMARY:Основы мастерства
LOCATION:ГЗ 301 А
END:VEVENT
BEGIN:VEVENT
UID:er7g@192.168.245.71:3006
SEQUENCE:0
DTSTAMP:20260421T070648Z
DTSTART:20260331T090000Z
DTEND:20260331T114000Z
SUMMARY:Технический рисунок
LOCATION:ГЗ 314
END:VEVENT
BEGIN:VEVENT
UID:zki1@192.168.245.71:3006
SEQUENCE:0
DTSTAMP:20260421T070648Z
DTSTART:20260331T120000Z
DTEND:20260331T144000Z
SUMMARY:Живопись
LOCATION:ГЗ 314
END:VEVENT
BEGIN:VEVENT
UID:il86@192.168.245.71:3006
SEQUENCE:0
DTSTAMP:20260421T070648Z
DTSTART:20260401T090000Z
DTEND:20260401T104000Z
SUMMARY:Информационные технологии в дизайне
LOCATION:ГЗ 303 (1)
END:VEVENT
BEGIN:VEVENT
UID:ybpm@192.168.245.71:3006
SEQUENCE:0
DTSTAMP:20260421T070648Z
DTSTART:20260401T110000Z
DTEND:20260401T124000Z
SUMMARY:История дизайна
LOCATION:ГЗ 257
END:VEVENT
BEGIN:VEVENT
UID:0d0w@192.168.245.71:3006
SEQUENCE:0
DTSTAMP:20260421T070648Z
DTSTART:20260401T130000Z
DTEND:20260401T144000Z
SUMMARY:Иностранный язык. Профессионально-ориентированный курс
LOCATION:ГЗ 223
END:VEVENT
BEGIN:VEVENT
UID:qcmh@192.168.245.71:3006
SEQUENCE:0
DTSTAMP:20260421T070648Z
DTSTART:20260402T090000Z
DTEND:20260402T104000Z
SUMMARY:Элективная физическая культура и спорт
LOCATION:СК Секции
END:VEVENT
BEGIN:VEVENT
UID:wjto@192.168.245.71:3006
SEQUENCE:0
DTSTAMP:20260421T070648Z
DTSTART:20260402T110000Z
DTEND:20260402T124000Z
SUMMARY:Допечатная подготовка
LOCATION:ГЗ 303 (5)
END:VEVENT
BEGIN:VEVENT
UID:6ulp@192.168.245.71:3006
SEQUENCE:0
DTSTAMP:20260421T070648Z
DTSTART:20260403T120000Z
DTEND:20260403T144000Z
SUMMARY:Основы дизайн-проектирования
LOCATION:ГЗ 303 (3)
END:VEVENT
END:VCALENDAR