BEGIN:VCALENDAR
VERSION:2.0
PRODID:-//spbstu.ru//ical//RU
NAME:Расписание группы 3140801/41101
X-WR-CALNAME:Расписание группы 3140801/41101
TIMEZONE-ID:Europe/Moscow
X-WR-TIMEZONE:Europe/Moscow
BEGIN:VEVENT
UID:c5u2@192.168.245.71:3006
SEQUENCE:0
DTSTAMP:20260422T203702Z
DTSTART:20260209T130000Z
DTEND:20260209T144000Z
SUMMARY:Наружные тепловые сети
LOCATION:ГК 229
END:VEVENT
END:VCALENDAR