BEGIN:VCALENDAR
VERSION:2.0
PRODID:-//spbstu.ru//ical//RU
NAME:Расписание группы 3140801/41201
X-WR-CALNAME:Расписание группы 3140801/41201
TIMEZONE-ID:Europe/Moscow
X-WR-TIMEZONE:Europe/Moscow
BEGIN:VEVENT
UID:sr5n@192.168.245.71:3006
SEQUENCE:0
DTSTAMP:20260424T235100Z
DTSTART:20251128T070000Z
DTEND:20251128T084000Z
SUMMARY:Бизнес-планирование в строительстве (на английском языке)
LOCATION:ГК-2 404
END:VEVENT
BEGIN:VEVENT
UID:2mmt@192.168.245.71:3006
SEQUENCE:0
DTSTAMP:20260424T235100Z
DTSTART:20251128T090000Z
DTEND:20251128T104000Z
SUMMARY:Надежность строительных конструкций  (на английском языке)
LOCATION:ГК-2 209
END:VEVENT
BEGIN:VEVENT
UID:e7py@192.168.245.71:3006
SEQUENCE:0
DTSTAMP:20260424T235100Z
DTSTART:20251128T110000Z
DTEND:20251128T124000Z
SUMMARY:Информационное моделирование процесса строительства (на английском
  языке)
LOCATION:ГК 216
END:VEVENT
END:VCALENDAR