BEGIN:VCALENDAR
VERSION:2.0
PRODID:-//spbstu.ru//ical//RU
NAME:Расписание группы 3140801/41201
X-WR-CALNAME:Расписание группы 3140801/41201
TIMEZONE-ID:Europe/Moscow
X-WR-TIMEZONE:Europe/Moscow
BEGIN:VEVENT
UID:nk55@192.168.245.71:3006
SEQUENCE:0
DTSTAMP:20260424T002555Z
DTSTART:20260114T070000Z
DTEND:20260114T074000Z
SUMMARY:Специальные разделы диссертационного исследования (на английском я
 зыке)
LOCATION:ГК-2 406
END:VEVENT
BEGIN:VEVENT
UID:9pe3@192.168.245.71:3006
SEQUENCE:0
DTSTAMP:20260424T002555Z
DTSTART:20260115T070000Z
DTEND:20260115T110000Z
SUMMARY:Специальные разделы диссертационного исследования (на английском я
 зыке)
LOCATION:ГК-2 504
END:VEVENT
END:VCALENDAR