BEGIN:VCALENDAR
VERSION:2.0
PRODID:-//spbstu.ru//ical//RU
NAME:Расписание группы 3140801/41202
X-WR-CALNAME:Расписание группы 3140801/41202
TIMEZONE-ID:Europe/Moscow
X-WR-TIMEZONE:Europe/Moscow
BEGIN:VEVENT
UID:u5gg@192.168.245.71:3006
SEQUENCE:0
DTSTAMP:20260425T180604Z
DTSTART:20251128T070000Z
DTEND:20251128T084000Z
SUMMARY:Надежность строительных конструкций  (на английском языке)
LOCATION:ГК-2 209
END:VEVENT
BEGIN:VEVENT
UID:hmxe@192.168.245.71:3006
SEQUENCE:0
DTSTAMP:20260425T180604Z
DTSTART:20251128T090000Z
DTEND:20251128T104000Z
SUMMARY:Бизнес-планирование в строительстве (на английском языке)
LOCATION:ГК-2 404
END:VEVENT
END:VCALENDAR