BEGIN:VCALENDAR
VERSION:2.0
PRODID:-//spbstu.ru//ical//RU
NAME:Расписание группы 3140801/41702
X-WR-CALNAME:Расписание группы 3140801/41702
TIMEZONE-ID:Europe/Moscow
X-WR-TIMEZONE:Europe/Moscow
BEGIN:VEVENT
UID:uea8@192.168.245.71:3006
SEQUENCE:0
DTSTAMP:20260423T225154Z
DTSTART:20260224T130000Z
DTEND:20260224T144000Z
SUMMARY:Бизнес-планирование в строительстве
LOCATION:ГК-2 507
END:VEVENT
BEGIN:VEVENT
UID:ty5x@192.168.245.71:3006
SEQUENCE:0
DTSTAMP:20260423T225154Z
DTSTART:20260225T130000Z
DTEND:20260225T144000Z
SUMMARY:НИРМ
LOCATION:ГК-2 410
END:VEVENT
END:VCALENDAR