BEGIN:VCALENDAR
VERSION:2.0
PRODID:-//spbstu.ru//ical//RU
NAME:Расписание группы 3140801/41702
X-WR-CALNAME:Расписание группы 3140801/41702
TIMEZONE-ID:Europe/Moscow
X-WR-TIMEZONE:Europe/Moscow
BEGIN:VEVENT
UID:eg16@192.168.245.71:3006
SEQUENCE:0
DTSTAMP:20260424T080759Z
DTSTART:20260211T150000Z
DTEND:20260211T164000Z
SUMMARY:Информационное моделирование процесса строительства
LOCATION:ГК-2 404
END:VEVENT
BEGIN:VEVENT
UID:zhk2@192.168.245.71:3006
SEQUENCE:0
DTSTAMP:20260424T080759Z
DTSTART:20260213T150000Z
DTEND:20260213T164000Z
SUMMARY:Цифровые модели управления твердыми коммунальными отходами
LOCATION:ГК-2 410
END:VEVENT
END:VCALENDAR