BEGIN:VCALENDAR
VERSION:2.0
PRODID:-//spbstu.ru//ical//RU
NAME:Расписание группы 3140801/42001
X-WR-CALNAME:Расписание группы 3140801/42001
TIMEZONE-ID:Europe/Moscow
X-WR-TIMEZONE:Europe/Moscow
BEGIN:VEVENT
UID:we97@192.168.245.71:3006
SEQUENCE:0
DTSTAMP:20260422T151541Z
DTSTART:20260120T130000Z
DTEND:20260120T134000Z
SUMMARY:Специальные разделы диссертационного исследования
LOCATION:ГК-2 506
END:VEVENT
BEGIN:VEVENT
UID:obdm@192.168.245.71:3006
SEQUENCE:0
DTSTAMP:20260422T151541Z
DTSTART:20260121T120000Z
DTEND:20260121T164000Z
SUMMARY:Специальные разделы диссертационного исследования
LOCATION:ГК-2 514
END:VEVENT
END:VCALENDAR