BEGIN:VCALENDAR
VERSION:2.0
PRODID:-//spbstu.ru//ical//RU
NAME:Расписание группы 3140801/42501
X-WR-CALNAME:Расписание группы 3140801/42501
TIMEZONE-ID:Europe/Moscow
X-WR-TIMEZONE:Europe/Moscow
BEGIN:VEVENT
UID:wpyv@192.168.245.71:3006
SEQUENCE:0
DTSTAMP:20260422T191335Z
DTSTART:20260318T090000Z
DTEND:20260318T093000Z
SUMMARY:Энергомоделирование зданий и сооружений
LOCATION:ГК 217
END:VEVENT
BEGIN:VEVENT
UID:tp40@192.168.245.71:3006
SEQUENCE:0
DTSTAMP:20260422T191335Z
DTSTART:20260318T093000Z
DTEND:20260318T100000Z
SUMMARY:Специальные разделы диссертационного исследования
LOCATION:ГК 217
END:VEVENT
END:VCALENDAR