BEGIN:VCALENDAR
VERSION:2.0
PRODID:-//spbstu.ru//ical//RU
NAME:Расписание группы 3140801/42701
X-WR-CALNAME:Расписание группы 3140801/42701
TIMEZONE-ID:Europe/Moscow
X-WR-TIMEZONE:Europe/Moscow
BEGIN:VEVENT
UID:y9zn@192.168.245.71:3006
SEQUENCE:0
DTSTAMP:20260426T021353Z
DTSTART:20251222T070000Z
DTEND:20251222T100000Z
SUMMARY:Бизнес-планирование в строительстве
LOCATION:ГК-2 205
END:VEVENT
BEGIN:VEVENT
UID:o7q4@192.168.245.71:3006
SEQUENCE:0
DTSTAMP:20260426T021353Z
DTSTART:20251222T110000Z
DTEND:20251222T130000Z
SUMMARY:Образовательный форсайт
LOCATION:ГК-2 205
END:VEVENT
BEGIN:VEVENT
UID:3l8e@192.168.245.71:3006
SEQUENCE:0
DTSTAMP:20260426T021353Z
DTSTART:20251222T110000Z
DTEND:20251222T130000Z
SUMMARY:Карьерная адаптивность
LOCATION:ГК-2 205
END:VEVENT
BEGIN:VEVENT
UID:aun7@192.168.245.71:3006
SEQUENCE:0
DTSTAMP:20260426T021353Z
DTSTART:20251223T070000Z
DTEND:20251223T083000Z
SUMMARY:Экологическая экспертиза недвижимости
LOCATION:ГК-2 503
END:VEVENT
BEGIN:VEVENT
UID:wws7@192.168.245.71:3006
SEQUENCE:0
DTSTAMP:20260426T021353Z
DTSTART:20251223T090000Z
DTEND:20251223T104000Z
SUMMARY:Специальные разделы диссертационного исследования
LOCATION:ГК-2 205
END:VEVENT
BEGIN:VEVENT
UID:z8dz@192.168.245.71:3006
SEQUENCE:0
DTSTAMP:20260426T021353Z
DTSTART:20251227T120000Z
DTEND:20251227T150000Z
SUMMARY:Архитектурно-градостроительная оценка недвижимости
LOCATION:ГК-2 405
END:VEVENT
END:VCALENDAR