BEGIN:VCALENDAR
VERSION:2.0
PRODID:-//spbstu.ru//ical//RU
NAME:Расписание группы 3150801/40001
X-WR-CALNAME:Расписание группы 3150801/40001
TIMEZONE-ID:Europe/Moscow
X-WR-TIMEZONE:Europe/Moscow
BEGIN:VEVENT
UID:0jrw@192.168.245.71:3006
SEQUENCE:0
DTSTAMP:20260424T182800Z
DTSTART:20260330T070000Z
DTEND:20260330T084000Z
SUMMARY:Архитектурное проектирование с использованием информационного моде
 лирования
LOCATION:ГК-2 506
END:VEVENT
BEGIN:VEVENT
UID:k3o4@192.168.245.71:3006
SEQUENCE:0
DTSTAMP:20260424T182800Z
DTSTART:20260330T090000Z
DTEND:20260330T104000Z
SUMMARY:Строительные материалы
LOCATION:ГК 107А
END:VEVENT
BEGIN:VEVENT
UID:a8gk@192.168.245.71:3006
SEQUENCE:0
DTSTAMP:20260424T182800Z
DTSTART:20260330T110000Z
DTEND:20260330T124000Z
SUMMARY:Элективная физическая культура и спорт
LOCATION:СК Секции
END:VEVENT
BEGIN:VEVENT
UID:79ex@192.168.245.71:3006
SEQUENCE:0
DTSTAMP:20260424T182800Z
DTSTART:20260330T130000Z
DTEND:20260330T144000Z
SUMMARY:Безопасность жизнедеятельности
LOCATION:ГК 104
END:VEVENT
BEGIN:VEVENT
UID:unwl@192.168.245.71:3006
SEQUENCE:0
DTSTAMP:20260424T182800Z
DTSTART:20260331T090000Z
DTEND:20260331T104000Z
SUMMARY:Архитектурное проектирование с использованием информационного моде
 лирования
LOCATION:ГК-2 407
END:VEVENT
BEGIN:VEVENT
UID:k7hg@192.168.245.71:3006
SEQUENCE:0
DTSTAMP:20260424T182800Z
DTSTART:20260331T110000Z
DTEND:20260331T124000Z
SUMMARY:Иностранный язык. Профессионально-ориентированный курс
LOCATION:ГК-2 401а
END:VEVENT
BEGIN:VEVENT
UID:bwe9@192.168.245.71:3006
SEQUENCE:0
DTSTAMP:20260424T182800Z
DTSTART:20260331T130000Z
DTEND:20260331T144000Z
SUMMARY:Геология
LOCATION:ГК-2 313
END:VEVENT
BEGIN:VEVENT
UID:bfnr@192.168.245.71:3006
SEQUENCE:0
DTSTAMP:20260424T182800Z
DTSTART:20260331T150000Z
DTEND:20260331T170000Z
SUMMARY:Теоретическая механика
LOCATION:ГЗ 153
END:VEVENT
BEGIN:VEVENT
UID:37yx@192.168.245.71:3006
SEQUENCE:0
DTSTAMP:20260424T182800Z
DTSTART:20260401T090000Z
DTEND:20260401T104000Z
SUMMARY:Строительная механика
LOCATION:ГК-2 513
END:VEVENT
BEGIN:VEVENT
UID:40oj@192.168.245.71:3006
SEQUENCE:0
DTSTAMP:20260424T182800Z
DTSTART:20260401T110000Z
DTEND:20260401T124000Z
SUMMARY:Строительная механика
LOCATION:ГК-2 514
END:VEVENT
BEGIN:VEVENT
UID:weqe@192.168.245.71:3006
SEQUENCE:0
DTSTAMP:20260424T182800Z
DTSTART:20260401T130000Z
DTEND:20260401T144000Z
SUMMARY:Сопротивление материалов
LOCATION:ГЗ 211
END:VEVENT
BEGIN:VEVENT
UID:cy1j@192.168.245.71:3006
SEQUENCE:0
DTSTAMP:20260424T182800Z
DTSTART:20260402T070000Z
DTEND:20260402T084000Z
SUMMARY:Геология
LOCATION:ГК-2 513
END:VEVENT
BEGIN:VEVENT
UID:0i1t@192.168.245.71:3006
SEQUENCE:0
DTSTAMP:20260424T182800Z
DTSTART:20260402T090000Z
DTEND:20260402T104000Z
SUMMARY:Элективная физическая культура и спорт
LOCATION:СК Секции
END:VEVENT
BEGIN:VEVENT
UID:dydc@192.168.245.71:3006
SEQUENCE:0
DTSTAMP:20260424T182800Z
DTSTART:20260402T110000Z
DTEND:20260402T124000Z
SUMMARY:Строительные материалы
LOCATION:ГЗ 305
END:VEVENT
END:VCALENDAR