BEGIN:VCALENDAR
VERSION:2.0
PRODID:-//spbstu.ru//ical//RU
NAME:Расписание группы 3150801/40004
X-WR-CALNAME:Расписание группы 3150801/40004
TIMEZONE-ID:Europe/Moscow
X-WR-TIMEZONE:Europe/Moscow
BEGIN:VEVENT
UID:1brg@192.168.245.71:3006
SEQUENCE:0
DTSTAMP:20260425T020337Z
DTSTART:20250908T070000Z
DTEND:20250908T084000Z
SUMMARY:Теоретическая механика
LOCATION:ГК-2 509
END:VEVENT
BEGIN:VEVENT
UID:fydm@192.168.245.71:3006
SEQUENCE:0
DTSTAMP:20260425T020337Z
DTSTART:20250908T090000Z
DTEND:20250908T104000Z
SUMMARY:Строительные материалы
LOCATION:ГК 113
END:VEVENT
BEGIN:VEVENT
UID:g604@192.168.245.71:3006
SEQUENCE:0
DTSTAMP:20260425T020337Z
DTSTART:20250908T110000Z
DTEND:20250908T124000Z
SUMMARY:Элективная физическая культура и спорт
LOCATION:СК Секции
END:VEVENT
BEGIN:VEVENT
UID:wqs3@192.168.245.71:3006
SEQUENCE:0
DTSTAMP:20260425T020337Z
DTSTART:20250908T130000Z
DTEND:20250908T144000Z
SUMMARY:Электротехника
LOCATION:ГЗ 305
END:VEVENT
BEGIN:VEVENT
UID:99ls@192.168.245.71:3006
SEQUENCE:0
DTSTAMP:20260425T020337Z
DTSTART:20250909T070000Z
DTEND:20250909T084000Z
SUMMARY:Архитектурное проектирование с использованием информационного моде
 лирования
LOCATION:ГЗ 122
END:VEVENT
BEGIN:VEVENT
UID:qe72@192.168.245.71:3006
SEQUENCE:0
DTSTAMP:20260425T020337Z
DTSTART:20250909T090000Z
DTEND:20250909T104000Z
SUMMARY:Сопротивление материалов
LOCATION:ГЗ 215
END:VEVENT
BEGIN:VEVENT
UID:a1nj@192.168.245.71:3006
SEQUENCE:0
DTSTAMP:20260425T020337Z
DTSTART:20250909T110000Z
DTEND:20250909T124000Z
SUMMARY:Высшая математика
LOCATION:ГК-2 312
END:VEVENT
BEGIN:VEVENT
UID:c27x@192.168.245.71:3006
SEQUENCE:0
DTSTAMP:20260425T020337Z
DTSTART:20250909T130000Z
DTEND:20250909T144000Z
SUMMARY:Иностранный язык: Базовый курс
LOCATION:ГК 229
END:VEVENT
BEGIN:VEVENT
UID:7o8d@192.168.245.71:3006
SEQUENCE:0
DTSTAMP:20260425T020337Z
DTSTART:20250910T110000Z
DTEND:20250910T124000Z
SUMMARY:Сопротивление материалов
LOCATION:ГК-2 406
END:VEVENT
BEGIN:VEVENT
UID:pdoc@192.168.245.71:3006
SEQUENCE:0
DTSTAMP:20260425T020337Z
DTSTART:20250911T070000Z
DTEND:20250911T084000Z
SUMMARY:Гидравлика
LOCATION:ГК 123а
END:VEVENT
BEGIN:VEVENT
UID:a1np@192.168.245.71:3006
SEQUENCE:0
DTSTAMP:20260425T020337Z
DTSTART:20250911T090000Z
DTEND:20250911T104000Z
SUMMARY:Элективная физическая культура и спорт
LOCATION:СК Секции
END:VEVENT
BEGIN:VEVENT
UID:bs0v@192.168.245.71:3006
SEQUENCE:0
DTSTAMP:20260425T020337Z
DTSTART:20250911T130000Z
DTEND:20250911T144000Z
SUMMARY:Электротехника
LOCATION:ГЗ ЭиЭ
END:VEVENT
BEGIN:VEVENT
UID:ma17@192.168.245.71:3006
SEQUENCE:0
DTSTAMP:20260425T020337Z
DTSTART:20250911T130000Z
DTEND:20250911T144000Z
SUMMARY:Электротехника
LOCATION:ГЗ ЭиЭ
END:VEVENT
BEGIN:VEVENT
UID:clvk@192.168.245.71:3006
SEQUENCE:0
DTSTAMP:20260425T020337Z
DTSTART:20250912T070000Z
DTEND:20250912T084000Z
SUMMARY:История России
LOCATION:ГЗ 329
END:VEVENT
BEGIN:VEVENT
UID:gila@192.168.245.71:3006
SEQUENCE:0
DTSTAMP:20260425T020337Z
DTSTART:20250912T090000Z
DTEND:20250912T104000Z
SUMMARY:Теоретическая механика
LOCATION:ГЗ 215
END:VEVENT
BEGIN:VEVENT
UID:hsrl@192.168.245.71:3006
SEQUENCE:0
DTSTAMP:20260425T020337Z
DTSTART:20250913T070000Z
DTEND:20250913T084000Z
SUMMARY:Гидравлика
LOCATION:ГЗ 215
END:VEVENT
END:VCALENDAR