BEGIN:VCALENDAR
VERSION:2.0
PRODID:-//spbstu.ru//ical//RU
NAME:Расписание группы 3150801/40004
X-WR-CALNAME:Расписание группы 3150801/40004
TIMEZONE-ID:Europe/Moscow
X-WR-TIMEZONE:Europe/Moscow
BEGIN:VEVENT
UID:unj1@192.168.245.71:3006
SEQUENCE:0
DTSTAMP:20260422T063712Z
DTSTART:20260209T070000Z
DTEND:20260209T084000Z
SUMMARY:Строительные материалы
LOCATION:ГК 117
END:VEVENT
BEGIN:VEVENT
UID:cy6m@192.168.245.71:3006
SEQUENCE:0
DTSTAMP:20260422T063712Z
DTSTART:20260209T090000Z
DTEND:20260209T104000Z
SUMMARY:Иностранный язык. Профессионально-ориентированный курс
LOCATION:ГК-2 314
END:VEVENT
BEGIN:VEVENT
UID:y9ws@192.168.245.71:3006
SEQUENCE:0
DTSTAMP:20260422T063712Z
DTSTART:20260209T110000Z
DTEND:20260209T124000Z
SUMMARY:Элективная физическая культура и спорт
LOCATION:СК Секции
END:VEVENT
BEGIN:VEVENT
UID:ld10@192.168.245.71:3006
SEQUENCE:0
DTSTAMP:20260422T063712Z
DTSTART:20260209T150000Z
DTEND:20260209T164000Z
SUMMARY:Электротехника
LOCATION:ГЗ 150
END:VEVENT
BEGIN:VEVENT
UID:6103@192.168.245.71:3006
SEQUENCE:0
DTSTAMP:20260422T063712Z
DTSTART:20260210T090000Z
DTEND:20260210T104000Z
SUMMARY:Сопротивление материалов
LOCATION:ГЗ 215
END:VEVENT
BEGIN:VEVENT
UID:p6o5@192.168.245.71:3006
SEQUENCE:0
DTSTAMP:20260422T063712Z
DTSTART:20260210T110000Z
DTEND:20260210T124000Z
SUMMARY:Гидравлика
LOCATION:ГК 123б
END:VEVENT
BEGIN:VEVENT
UID:k981@192.168.245.71:3006
SEQUENCE:0
DTSTAMP:20260422T063712Z
DTSTART:20260210T130000Z
DTEND:20260210T144000Z
SUMMARY:Геология
LOCATION:ГК-2 313
END:VEVENT
BEGIN:VEVENT
UID:topu@192.168.245.71:3006
SEQUENCE:0
DTSTAMP:20260422T063712Z
DTSTART:20260211T070000Z
DTEND:20260211T084000Z
SUMMARY:Сопротивление материалов
LOCATION:ГК-2 503
END:VEVENT
BEGIN:VEVENT
UID:csr6@192.168.245.71:3006
SEQUENCE:0
DTSTAMP:20260422T063712Z
DTSTART:20260211T090000Z
DTEND:20260211T104000Z
SUMMARY:Строительная механика
LOCATION:ГК-2 514
END:VEVENT
BEGIN:VEVENT
UID:joqi@192.168.245.71:3006
SEQUENCE:0
DTSTAMP:20260422T063712Z
DTSTART:20260211T110000Z
DTEND:20260211T124000Z
SUMMARY:Безопасность жизнедеятельности
LOCATION:ГК 104
END:VEVENT
BEGIN:VEVENT
UID:v7v5@192.168.245.71:3006
SEQUENCE:0
DTSTAMP:20260422T063712Z
DTSTART:20260212T070000Z
DTEND:20260212T084000Z
SUMMARY:Геология
LOCATION:ГК-2 513
END:VEVENT
BEGIN:VEVENT
UID:zo4l@192.168.245.71:3006
SEQUENCE:0
DTSTAMP:20260422T063712Z
DTSTART:20260212T090000Z
DTEND:20260212T104000Z
SUMMARY:Элективная физическая культура и спорт
LOCATION:СК Секции
END:VEVENT
BEGIN:VEVENT
UID:o2ka@192.168.245.71:3006
SEQUENCE:0
DTSTAMP:20260422T063712Z
DTSTART:20260212T130000Z
DTEND:20260212T144000Z
SUMMARY:Основы проектной деятельности
LOCATION:ГК-2 401
END:VEVENT
BEGIN:VEVENT
UID:c5dv@192.168.245.71:3006
SEQUENCE:0
DTSTAMP:20260422T063712Z
DTSTART:20260213T150000Z
DTEND:20260213T164000Z
SUMMARY:История России
LOCATION:ГК-2 309
END:VEVENT
BEGIN:VEVENT
UID:xlxk@192.168.245.71:3006
SEQUENCE:0
DTSTAMP:20260422T063712Z
DTSTART:20260214T070000Z
DTEND:20260214T084000Z
SUMMARY:Гидравлика
LOCATION:ГЗ 215
END:VEVENT
END:VCALENDAR