BEGIN:VCALENDAR
VERSION:2.0
PRODID:-//spbstu.ru//ical//RU
NAME:Расписание группы 3150801/40004
X-WR-CALNAME:Расписание группы 3150801/40004
TIMEZONE-ID:Europe/Moscow
X-WR-TIMEZONE:Europe/Moscow
BEGIN:VEVENT
UID:kknc@192.168.245.71:3006
SEQUENCE:0
DTSTAMP:20260421T152418Z
DTSTART:20260323T070000Z
DTEND:20260323T084000Z
SUMMARY:Строительные материалы
LOCATION:ГК 117
END:VEVENT
BEGIN:VEVENT
UID:u5ru@192.168.245.71:3006
SEQUENCE:0
DTSTAMP:20260421T152418Z
DTSTART:20260323T090000Z
DTEND:20260323T104000Z
SUMMARY:Иностранный язык. Профессионально-ориентированный курс
LOCATION:ГК-2 314
END:VEVENT
BEGIN:VEVENT
UID:zdxi@192.168.245.71:3006
SEQUENCE:0
DTSTAMP:20260421T152418Z
DTSTART:20260323T110000Z
DTEND:20260323T124000Z
SUMMARY:Элективная физическая культура и спорт
LOCATION:СК Секции
END:VEVENT
BEGIN:VEVENT
UID:sceh@192.168.245.71:3006
SEQUENCE:0
DTSTAMP:20260421T152418Z
DTSTART:20260323T150000Z
DTEND:20260323T164000Z
SUMMARY:Электротехника
LOCATION:ГЗ ЭиЭ
END:VEVENT
BEGIN:VEVENT
UID:b0mn@192.168.245.71:3006
SEQUENCE:0
DTSTAMP:20260421T152418Z
DTSTART:20260324T090000Z
DTEND:20260324T104000Z
SUMMARY:Сопротивление материалов
LOCATION:ГЗ 215
END:VEVENT
BEGIN:VEVENT
UID:b6pd@192.168.245.71:3006
SEQUENCE:0
DTSTAMP:20260421T152418Z
DTSTART:20260324T110000Z
DTEND:20260324T124000Z
SUMMARY:Гидравлика
LOCATION:ГК 123б
END:VEVENT
BEGIN:VEVENT
UID:rwzb@192.168.245.71:3006
SEQUENCE:0
DTSTAMP:20260421T152418Z
DTSTART:20260324T130000Z
DTEND:20260324T144000Z
SUMMARY:Геология
LOCATION:ГК-2 313
END:VEVENT
BEGIN:VEVENT
UID:mw8r@192.168.245.71:3006
SEQUENCE:0
DTSTAMP:20260421T152418Z
DTSTART:20260324T150000Z
DTEND:20260324T164000Z
SUMMARY:Иностранный язык: Базовый курс
LOCATION:ГК-2 405
END:VEVENT
BEGIN:VEVENT
UID:lebh@192.168.245.71:3006
SEQUENCE:0
DTSTAMP:20260421T152418Z
DTSTART:20260325T070000Z
DTEND:20260325T084000Z
SUMMARY:Сопротивление материалов
LOCATION:ГК-2 503
END:VEVENT
BEGIN:VEVENT
UID:7awc@192.168.245.71:3006
SEQUENCE:0
DTSTAMP:20260421T152418Z
DTSTART:20260325T090000Z
DTEND:20260325T104000Z
SUMMARY:Строительная механика
LOCATION:ГК-2 514
END:VEVENT
BEGIN:VEVENT
UID:uln4@192.168.245.71:3006
SEQUENCE:0
DTSTAMP:20260421T152418Z
DTSTART:20260325T110000Z
DTEND:20260325T124000Z
SUMMARY:Безопасность жизнедеятельности
LOCATION:ГК 104
END:VEVENT
BEGIN:VEVENT
UID:hvzx@192.168.245.71:3006
SEQUENCE:0
DTSTAMP:20260421T152418Z
DTSTART:20260326T070000Z
DTEND:20260326T084000Z
SUMMARY:Геология
LOCATION:ГК-2 513
END:VEVENT
BEGIN:VEVENT
UID:4vy8@192.168.245.71:3006
SEQUENCE:0
DTSTAMP:20260421T152418Z
DTSTART:20260326T090000Z
DTEND:20260326T104000Z
SUMMARY:Элективная физическая культура и спорт
LOCATION:СК Секции
END:VEVENT
BEGIN:VEVENT
UID:u1cn@192.168.245.71:3006
SEQUENCE:0
DTSTAMP:20260421T152418Z
DTSTART:20260326T110000Z
DTEND:20260326T124000Z
SUMMARY:Безопасность жизнедеятельности
LOCATION:ГК 118
END:VEVENT
BEGIN:VEVENT
UID:eksm@192.168.245.71:3006
SEQUENCE:0
DTSTAMP:20260421T152418Z
DTSTART:20260326T130000Z
DTEND:20260326T144000Z
SUMMARY:Основы проектной деятельности
LOCATION:ГК-2 401
END:VEVENT
BEGIN:VEVENT
UID:dq28@192.168.245.71:3006
SEQUENCE:0
DTSTAMP:20260421T152418Z
DTSTART:20260327T130000Z
DTEND:20260327T144000Z
SUMMARY:Гидравлика
LOCATION:ГК 123б
END:VEVENT
BEGIN:VEVENT
UID:yw41@192.168.245.71:3006
SEQUENCE:0
DTSTAMP:20260421T152418Z
DTSTART:20260328T070000Z
DTEND:20260328T084000Z
SUMMARY:Гидравлика
LOCATION:ГЗ 215
END:VEVENT
END:VCALENDAR