BEGIN:VCALENDAR
VERSION:2.0
PRODID:-//spbstu.ru//ical//RU
NAME:Расписание группы 3150801/40004
X-WR-CALNAME:Расписание группы 3150801/40004
TIMEZONE-ID:Europe/Moscow
X-WR-TIMEZONE:Europe/Moscow
BEGIN:VEVENT
UID:xbkb@192.168.245.71:3006
SEQUENCE:0
DTSTAMP:20260421T051610Z
DTSTART:20260427T070000Z
DTEND:20260427T084000Z
SUMMARY:Строительные материалы
LOCATION:ГК 107А
END:VEVENT
BEGIN:VEVENT
UID:8rln@192.168.245.71:3006
SEQUENCE:0
DTSTAMP:20260421T051610Z
DTSTART:20260427T090000Z
DTEND:20260427T104000Z
SUMMARY:Иностранный язык. Профессионально-ориентированный курс
LOCATION:ГК-2 314
END:VEVENT
BEGIN:VEVENT
UID:0aaq@192.168.245.71:3006
SEQUENCE:0
DTSTAMP:20260421T051610Z
DTSTART:20260427T110000Z
DTEND:20260427T124000Z
SUMMARY:Элективная физическая культура и спорт
LOCATION:СК Секции
END:VEVENT
BEGIN:VEVENT
UID:20zg@192.168.245.71:3006
SEQUENCE:0
DTSTAMP:20260421T051610Z
DTSTART:20260427T130000Z
DTEND:20260427T144000Z
SUMMARY:Строительная механика
LOCATION:ГК-2 514
END:VEVENT
BEGIN:VEVENT
UID:v1gb@192.168.245.71:3006
SEQUENCE:0
DTSTAMP:20260421T051610Z
DTSTART:20260428T090000Z
DTEND:20260428T104000Z
SUMMARY:Архитектурное проектирование с использованием информационного моде
 лирования
LOCATION:ГК-2 407
END:VEVENT
BEGIN:VEVENT
UID:ijlv@192.168.245.71:3006
SEQUENCE:0
DTSTAMP:20260421T051610Z
DTSTART:20260428T110000Z
DTEND:20260428T124000Z
SUMMARY:Архитектурное проектирование с использованием информационного моде
 лирования
LOCATION:ГК-2 405
END:VEVENT
BEGIN:VEVENT
UID:1z2q@192.168.245.71:3006
SEQUENCE:0
DTSTAMP:20260421T051610Z
DTSTART:20260428T130000Z
DTEND:20260428T144000Z
SUMMARY:Архитектурное проектирование с использованием информационного моде
 лирования
LOCATION:ГК-2 405
END:VEVENT
BEGIN:VEVENT
UID:8ilg@192.168.245.71:3006
SEQUENCE:0
DTSTAMP:20260421T051610Z
DTSTART:20260429T070000Z
DTEND:20260429T084000Z
SUMMARY:Сопротивление материалов
LOCATION:ГК-2 503
END:VEVENT
BEGIN:VEVENT
UID:mdfz@192.168.245.71:3006
SEQUENCE:0
DTSTAMP:20260421T051610Z
DTSTART:20260429T090000Z
DTEND:20260429T104000Z
SUMMARY:Строительная механика
LOCATION:ГК-2 513
END:VEVENT
BEGIN:VEVENT
UID:a6b1@192.168.245.71:3006
SEQUENCE:0
DTSTAMP:20260421T051610Z
DTSTART:20260430T070000Z
DTEND:20260430T084000Z
SUMMARY:Геология
LOCATION:ГК-2 513
END:VEVENT
BEGIN:VEVENT
UID:tsg1@192.168.245.71:3006
SEQUENCE:0
DTSTAMP:20260421T051610Z
DTSTART:20260430T090000Z
DTEND:20260430T104000Z
SUMMARY:Элективная физическая культура и спорт
LOCATION:СК Секции
END:VEVENT
BEGIN:VEVENT
UID:z3st@192.168.245.71:3006
SEQUENCE:0
DTSTAMP:20260421T051610Z
DTSTART:20260430T110000Z
DTEND:20260430T124000Z
SUMMARY:Строительные материалы
LOCATION:ГЗ 305
END:VEVENT
END:VCALENDAR