BEGIN:VCALENDAR
VERSION:2.0
PRODID:-//spbstu.ru//ical//RU
NAME:Расписание группы 3150801/40004
X-WR-CALNAME:Расписание группы 3150801/40004
TIMEZONE-ID:Europe/Moscow
X-WR-TIMEZONE:Europe/Moscow
BEGIN:VEVENT
UID:a056@192.168.245.71:3006
SEQUENCE:0
DTSTAMP:20260421T101733Z
DTSTART:20260511T070000Z
DTEND:20260511T084000Z
SUMMARY:Строительные материалы
LOCATION:ГК 117
END:VEVENT
BEGIN:VEVENT
UID:oh3m@192.168.245.71:3006
SEQUENCE:0
DTSTAMP:20260421T101733Z
DTSTART:20260511T090000Z
DTEND:20260511T104000Z
SUMMARY:Иностранный язык. Профессионально-ориентированный курс
LOCATION:ГК-2 314
END:VEVENT
BEGIN:VEVENT
UID:2o75@192.168.245.71:3006
SEQUENCE:0
DTSTAMP:20260421T101733Z
DTSTART:20260511T110000Z
DTEND:20260511T124000Z
SUMMARY:Элективная физическая культура и спорт
LOCATION:СК Секции
END:VEVENT
BEGIN:VEVENT
UID:dzve@192.168.245.71:3006
SEQUENCE:0
DTSTAMP:20260421T101733Z
DTSTART:20260514T070000Z
DTEND:20260514T084000Z
SUMMARY:Геология
LOCATION:ГК-2 513
END:VEVENT
BEGIN:VEVENT
UID:6910@192.168.245.71:3006
SEQUENCE:0
DTSTAMP:20260421T101733Z
DTSTART:20260514T090000Z
DTEND:20260514T104000Z
SUMMARY:Элективная физическая культура и спорт
LOCATION:СК Секции
END:VEVENT
END:VCALENDAR