BEGIN:VCALENDAR
VERSION:2.0
PRODID:-//spbstu.ru//ical//RU
NAME:Расписание группы 3130801/30201
X-WR-CALNAME:Расписание группы 3130801/30201
TIMEZONE-ID:Europe/Moscow
X-WR-TIMEZONE:Europe/Moscow
BEGIN:VEVENT
UID:z73e@192.168.245.71:3006
SEQUENCE:0
DTSTAMP:20260424T235056Z
DTSTART:20251020T070000Z
DTEND:20251020T084000Z
SUMMARY:Проектирование зданий и сооружений
LOCATION:ГК-2 405
END:VEVENT
BEGIN:VEVENT
UID:kwap@192.168.245.71:3006
SEQUENCE:0
DTSTAMP:20260424T235056Z
DTSTART:20251020T090000Z
DTEND:20251020T104000Z
SUMMARY:Железобетонные конструкции
LOCATION:ГК-2 407
END:VEVENT
BEGIN:VEVENT
UID:afbh@192.168.245.71:3006
SEQUENCE:0
DTSTAMP:20260424T235056Z
DTSTART:20251020T110000Z
DTEND:20251020T124000Z
SUMMARY:Механика грунтов
LOCATION:ГЗ 215
END:VEVENT
BEGIN:VEVENT
UID:yjui@192.168.245.71:3006
SEQUENCE:0
DTSTAMP:20260424T235056Z
DTSTART:20251020T130000Z
DTEND:20251020T144000Z
SUMMARY:Железобетонные конструкции
LOCATION:ГК-2 110
END:VEVENT
BEGIN:VEVENT
UID:jk9p@192.168.245.71:3006
SEQUENCE:0
DTSTAMP:20260424T235056Z
DTSTART:20251021T090000Z
DTEND:20251021T104000Z
SUMMARY:Профессионально-ориентированный английский язык. Строительные маши
 ны и оборудование
LOCATION:ГК-2 513
END:VEVENT
BEGIN:VEVENT
UID:0rtk@192.168.245.71:3006
SEQUENCE:0
DTSTAMP:20260424T235056Z
DTSTART:20251021T110000Z
DTEND:20251021T124000Z
SUMMARY:Строительная механика
LOCATION:ГК-2 410
END:VEVENT
BEGIN:VEVENT
UID:6eig@192.168.245.71:3006
SEQUENCE:0
DTSTAMP:20260424T235056Z
DTSTART:20251022T070000Z
DTEND:20251022T084000Z
SUMMARY:Водоснабжение и водоотведение
LOCATION:ГК 123б
END:VEVENT
BEGIN:VEVENT
UID:z5y0@192.168.245.71:3006
SEQUENCE:0
DTSTAMP:20260424T235056Z
DTSTART:20251022T090000Z
DTEND:20251022T104000Z
SUMMARY:Механика грунтов
LOCATION:ГК-2 315
END:VEVENT
BEGIN:VEVENT
UID:8jkn@192.168.245.71:3006
SEQUENCE:0
DTSTAMP:20260424T235056Z
DTSTART:20251022T110000Z
DTEND:20251022T124000Z
SUMMARY:Иностранный язык. Профессионально-ориентированный курс
LOCATION:ГК 229
END:VEVENT
BEGIN:VEVENT
UID:tidr@192.168.245.71:3006
SEQUENCE:0
DTSTAMP:20260424T235056Z
DTSTART:20251022T130000Z
DTEND:20251022T144000Z
SUMMARY:Проектирование зданий и сооружений
LOCATION:ГК-2 410
END:VEVENT
BEGIN:VEVENT
UID:1hd0@192.168.245.71:3006
SEQUENCE:0
DTSTAMP:20260424T235056Z
DTSTART:20251023T070000Z
DTEND:20251023T084000Z
SUMMARY:Военная подготовка
LOCATION:Военная каф. кафедра
END:VEVENT
BEGIN:VEVENT
UID:htxr@192.168.245.71:3006
SEQUENCE:0
DTSTAMP:20260424T235056Z
DTSTART:20251023T090000Z
DTEND:20251023T104000Z
SUMMARY:Военная подготовка
LOCATION:Военная каф. кафедра
END:VEVENT
BEGIN:VEVENT
UID:wuo2@192.168.245.71:3006
SEQUENCE:0
DTSTAMP:20260424T235056Z
DTSTART:20251023T110000Z
DTEND:20251023T124000Z
SUMMARY:Военная подготовка
LOCATION:Военная каф. кафедра
END:VEVENT
BEGIN:VEVENT
UID:75e7@192.168.245.71:3006
SEQUENCE:0
DTSTAMP:20260424T235056Z
DTSTART:20251024T110000Z
DTEND:20251024T124000Z
SUMMARY:Цифровое моделирование безопасности строительства
LOCATION:ГК-2 404
END:VEVENT
END:VCALENDAR