BEGIN:VCALENDAR
VERSION:2.0
PRODID:-//spbstu.ru//ical//RU
NAME:Расписание группы 3130801/30201
X-WR-CALNAME:Расписание группы 3130801/30201
TIMEZONE-ID:Europe/Moscow
X-WR-TIMEZONE:Europe/Moscow
BEGIN:VEVENT
UID:u78o@192.168.245.71:3006
SEQUENCE:0
DTSTAMP:20260421T180928Z
DTSTART:20260421T070000Z
DTEND:20260421T084000Z
SUMMARY:Управление жилищным фондом
LOCATION:ГК-2 401
END:VEVENT
BEGIN:VEVENT
UID:ilob@192.168.245.71:3006
SEQUENCE:0
DTSTAMP:20260421T180928Z
DTSTART:20260421T090000Z
DTEND:20260421T104000Z
SUMMARY:Управление жилищным фондом
LOCATION:ГК-2 410
END:VEVENT
BEGIN:VEVENT
UID:bp0e@192.168.245.71:3006
SEQUENCE:0
DTSTAMP:20260421T180928Z
DTSTART:20260421T110000Z
DTEND:20260421T124000Z
SUMMARY:Основания и фундаменты
LOCATION:ГК-2 305
END:VEVENT
BEGIN:VEVENT
UID:0why@192.168.245.71:3006
SEQUENCE:0
DTSTAMP:20260421T180928Z
DTSTART:20260422T110000Z
DTEND:20260422T124000Z
SUMMARY:Металлические конструкции
LOCATION:ГК-2 513
END:VEVENT
BEGIN:VEVENT
UID:74tq@192.168.245.71:3006
SEQUENCE:0
DTSTAMP:20260421T180928Z
DTSTART:20260422T130000Z
DTEND:20260422T144000Z
SUMMARY:Основания и фундаменты
LOCATION:ГЗ 215
END:VEVENT
BEGIN:VEVENT
UID:3bpa@192.168.245.71:3006
SEQUENCE:0
DTSTAMP:20260421T180928Z
DTSTART:20260423T070000Z
DTEND:20260423T084000Z
SUMMARY:Военная подготовка
LOCATION:Военная каф. кафедра
END:VEVENT
BEGIN:VEVENT
UID:rxqy@192.168.245.71:3006
SEQUENCE:0
DTSTAMP:20260421T180928Z
DTSTART:20260423T090000Z
DTEND:20260423T104000Z
SUMMARY:Военная подготовка
LOCATION:Военная каф. кафедра
END:VEVENT
BEGIN:VEVENT
UID:g67u@192.168.245.71:3006
SEQUENCE:0
DTSTAMP:20260421T180928Z
DTSTART:20260423T110000Z
DTEND:20260423T124000Z
SUMMARY:Военная подготовка
LOCATION:Военная каф. кафедра
END:VEVENT
BEGIN:VEVENT
UID:2hyz@192.168.245.71:3006
SEQUENCE:0
DTSTAMP:20260421T180928Z
DTSTART:20260424T090000Z
DTEND:20260424T104000Z
SUMMARY:Системы \"зеленых\" стандартов в строительстве
LOCATION:ГК-2 405
END:VEVENT
BEGIN:VEVENT
UID:htho@192.168.245.71:3006
SEQUENCE:0
DTSTAMP:20260421T180928Z
DTSTART:20260424T110000Z
DTEND:20260424T124000Z
SUMMARY:Системы \"зеленых\" стандартов в строительстве
LOCATION:ГК-2 410
END:VEVENT
END:VCALENDAR