BEGIN:VCALENDAR
VERSION:2.0
PRODID:-//spbstu.ru//ical//RU
NAME:Расписание группы 3130801/30201
X-WR-CALNAME:Расписание группы 3130801/30201
TIMEZONE-ID:Europe/Moscow
X-WR-TIMEZONE:Europe/Moscow
BEGIN:VEVENT
UID:nmmx@192.168.245.71:3006
SEQUENCE:0
DTSTAMP:20260421T232325Z
DTSTART:20260407T070000Z
DTEND:20260407T084000Z
SUMMARY:Управление жилищным фондом
LOCATION:ГК-2 401
END:VEVENT
BEGIN:VEVENT
UID:k00r@192.168.245.71:3006
SEQUENCE:0
DTSTAMP:20260421T232325Z
DTSTART:20260407T090000Z
DTEND:20260407T104000Z
SUMMARY:Управление жилищным фондом
LOCATION:ГК-2 410
END:VEVENT
BEGIN:VEVENT
UID:vpbw@192.168.245.71:3006
SEQUENCE:0
DTSTAMP:20260421T232325Z
DTSTART:20260407T110000Z
DTEND:20260407T124000Z
SUMMARY:Основания и фундаменты
LOCATION:ГК-2 305
END:VEVENT
BEGIN:VEVENT
UID:70de@192.168.245.71:3006
SEQUENCE:0
DTSTAMP:20260421T232325Z
DTSTART:20260408T110000Z
DTEND:20260408T124000Z
SUMMARY:Металлические конструкции
LOCATION:ГК-2 513
END:VEVENT
BEGIN:VEVENT
UID:beh7@192.168.245.71:3006
SEQUENCE:0
DTSTAMP:20260421T232325Z
DTSTART:20260408T130000Z
DTEND:20260408T144000Z
SUMMARY:Основания и фундаменты
LOCATION:ГЗ 215
END:VEVENT
BEGIN:VEVENT
UID:lmwu@192.168.245.71:3006
SEQUENCE:0
DTSTAMP:20260421T232325Z
DTSTART:20260409T070000Z
DTEND:20260409T084000Z
SUMMARY:Военная подготовка
LOCATION:Военная каф. кафедра
END:VEVENT
BEGIN:VEVENT
UID:4fx6@192.168.245.71:3006
SEQUENCE:0
DTSTAMP:20260421T232325Z
DTSTART:20260409T090000Z
DTEND:20260409T104000Z
SUMMARY:Военная подготовка
LOCATION:Военная каф. кафедра
END:VEVENT
BEGIN:VEVENT
UID:qjha@192.168.245.71:3006
SEQUENCE:0
DTSTAMP:20260421T232325Z
DTSTART:20260409T110000Z
DTEND:20260409T124000Z
SUMMARY:Военная подготовка
LOCATION:Военная каф. кафедра
END:VEVENT
BEGIN:VEVENT
UID:or7t@192.168.245.71:3006
SEQUENCE:0
DTSTAMP:20260421T232325Z
DTSTART:20260410T090000Z
DTEND:20260410T104000Z
SUMMARY:Системы \"зеленых\" стандартов в строительстве
LOCATION:ГК-2 405
END:VEVENT
BEGIN:VEVENT
UID:oiyi@192.168.245.71:3006
SEQUENCE:0
DTSTAMP:20260421T232325Z
DTSTART:20260410T110000Z
DTEND:20260410T124000Z
SUMMARY:Системы \"зеленых\" стандартов в строительстве
LOCATION:ГК-2 410
END:VEVENT
END:VCALENDAR