BEGIN:VCALENDAR
VERSION:2.0
PRODID:-//spbstu.ru//ical//RU
NAME:Расписание группы 3130801/30401
X-WR-CALNAME:Расписание группы 3130801/30401
TIMEZONE-ID:Europe/Moscow
X-WR-TIMEZONE:Europe/Moscow
BEGIN:VEVENT
UID:oimu@192.168.245.71:3006
SEQUENCE:0
DTSTAMP:20260425T105254Z
DTSTART:20251110T070000Z
DTEND:20251110T084000Z
SUMMARY:Водные пути и порты
LOCATION:ГК-2 508
END:VEVENT
BEGIN:VEVENT
UID:qjm1@192.168.245.71:3006
SEQUENCE:0
DTSTAMP:20260425T105254Z
DTSTART:20251110T090000Z
DTEND:20251110T104000Z
SUMMARY:Водные пути и порты
LOCATION:ГК-2 508
END:VEVENT
BEGIN:VEVENT
UID:sm7u@192.168.245.71:3006
SEQUENCE:0
DTSTAMP:20260425T105254Z
DTSTART:20251110T110000Z
DTEND:20251110T124000Z
SUMMARY:Механика грунтов
LOCATION:ГЗ 215
END:VEVENT
BEGIN:VEVENT
UID:j8b1@192.168.245.71:3006
SEQUENCE:0
DTSTAMP:20260425T105254Z
DTSTART:20251110T130000Z
DTEND:20251110T144000Z
SUMMARY:Инженерная гидрология и метеорология
LOCATION:ГК-2 507
END:VEVENT
BEGIN:VEVENT
UID:ac1h@192.168.245.71:3006
SEQUENCE:0
DTSTAMP:20260425T105254Z
DTSTART:20251111T070000Z
DTEND:20251111T084000Z
SUMMARY:Железобетонные конструкции
LOCATION:ГК-2 509
END:VEVENT
BEGIN:VEVENT
UID:nu23@192.168.245.71:3006
SEQUENCE:0
DTSTAMP:20260425T105254Z
DTSTART:20251111T090000Z
DTEND:20251111T104000Z
SUMMARY:Строительная механика
LOCATION:ГК-2 513
END:VEVENT
BEGIN:VEVENT
UID:8w44@192.168.245.71:3006
SEQUENCE:0
DTSTAMP:20260425T105254Z
DTSTART:20251111T110000Z
DTEND:20251111T124000Z
SUMMARY:Железобетонные конструкции
LOCATION:ГК-2 301а
END:VEVENT
BEGIN:VEVENT
UID:i86f@192.168.245.71:3006
SEQUENCE:0
DTSTAMP:20260425T105254Z
DTSTART:20251111T150000Z
DTEND:20251111T164000Z
SUMMARY:Карьерная адаптивность
LOCATION:ГЗ 329
END:VEVENT
BEGIN:VEVENT
UID:q165@192.168.245.71:3006
SEQUENCE:0
DTSTAMP:20260425T105254Z
DTSTART:20251112T070000Z
DTEND:20251112T084000Z
SUMMARY:Проектно-вычислительные комплексы в строительстве
LOCATION:ГК 216
END:VEVENT
BEGIN:VEVENT
UID:lq6l@192.168.245.71:3006
SEQUENCE:0
DTSTAMP:20260425T105254Z
DTSTART:20251112T090000Z
DTEND:20251112T104000Z
SUMMARY:Механика грунтов
LOCATION:ГК-2 315
END:VEVENT
BEGIN:VEVENT
UID:irt5@192.168.245.71:3006
SEQUENCE:0
DTSTAMP:20260425T105254Z
DTSTART:20251112T110000Z
DTEND:20251112T124000Z
SUMMARY:Профессионально-ориентированный английский язык. Строительные маши
 ны и оборудование
LOCATION:ГК-2 513
END:VEVENT
BEGIN:VEVENT
UID:p088@192.168.245.71:3006
SEQUENCE:0
DTSTAMP:20260425T105254Z
DTSTART:20251112T130000Z
DTEND:20251112T144000Z
SUMMARY:Строительная механика
LOCATION:ГК-2 514
END:VEVENT
BEGIN:VEVENT
UID:rj6o@192.168.245.71:3006
SEQUENCE:0
DTSTAMP:20260425T105254Z
DTSTART:20251113T070000Z
DTEND:20251113T084000Z
SUMMARY:Военная подготовка
LOCATION:Военная каф. кафедра
END:VEVENT
BEGIN:VEVENT
UID:ei1k@192.168.245.71:3006
SEQUENCE:0
DTSTAMP:20260425T105254Z
DTSTART:20251113T090000Z
DTEND:20251113T104000Z
SUMMARY:Военная подготовка
LOCATION:Военная каф. кафедра
END:VEVENT
BEGIN:VEVENT
UID:lshl@192.168.245.71:3006
SEQUENCE:0
DTSTAMP:20260425T105254Z
DTSTART:20251113T110000Z
DTEND:20251113T124000Z
SUMMARY:Военная подготовка
LOCATION:Военная каф. кафедра
END:VEVENT
BEGIN:VEVENT
UID:rxbs@192.168.245.71:3006
SEQUENCE:0
DTSTAMP:20260425T105254Z
DTSTART:20251114T070000Z
DTEND:20251114T084000Z
SUMMARY:Иностранный язык. Профессионально-ориентированный курс
LOCATION:ГК 229
END:VEVENT
BEGIN:VEVENT
UID:qj3f@192.168.245.71:3006
SEQUENCE:0
DTSTAMP:20260425T105254Z
DTSTART:20251114T090000Z
DTEND:20251114T104000Z
SUMMARY:Инженерная гидрология и метеорология
LOCATION:ГК-2 304
END:VEVENT
BEGIN:VEVENT
UID:kl6a@192.168.245.71:3006
SEQUENCE:0
DTSTAMP:20260425T105254Z
DTSTART:20251114T110000Z
DTEND:20251114T124000Z
SUMMARY:Нормы проектирования
LOCATION:ГК-2 209
END:VEVENT
BEGIN:VEVENT
UID:8t26@192.168.245.71:3006
SEQUENCE:0
DTSTAMP:20260425T105254Z
DTSTART:20251114T130000Z
DTEND:20251114T144000Z
SUMMARY:Нормы проектирования
LOCATION:ГК-2 209
END:VEVENT
BEGIN:VEVENT
UID:jitd@192.168.245.71:3006
SEQUENCE:0
DTSTAMP:20260425T105254Z
DTSTART:20251115T070000Z
DTEND:20251115T084000Z
SUMMARY:Военная подготовка
LOCATION:Военная каф. кафедра
END:VEVENT
BEGIN:VEVENT
UID:6t3f@192.168.245.71:3006
SEQUENCE:0
DTSTAMP:20260425T105254Z
DTSTART:20251115T090000Z
DTEND:20251115T104000Z
SUMMARY:Военная подготовка
LOCATION:Военная каф. кафедра
END:VEVENT
BEGIN:VEVENT
UID:m5ba@192.168.245.71:3006
SEQUENCE:0
DTSTAMP:20260425T105254Z
DTSTART:20251115T110000Z
DTEND:20251115T124000Z
SUMMARY:Военная подготовка
LOCATION:Военная каф. кафедра
END:VEVENT
END:VCALENDAR