BEGIN:VCALENDAR
VERSION:2.0
PRODID:-//spbstu.ru//ical//RU
NAME:Расписание группы 3130801/30401
X-WR-CALNAME:Расписание группы 3130801/30401
TIMEZONE-ID:Europe/Moscow
X-WR-TIMEZONE:Europe/Moscow
BEGIN:VEVENT
UID:0ylb@192.168.245.71:3006
SEQUENCE:0
DTSTAMP:20260423T062511Z
DTSTART:20260209T070000Z
DTEND:20260209T084000Z
SUMMARY:Использование возобновляемой энергии
LOCATION:ГК-2 305
END:VEVENT
BEGIN:VEVENT
UID:p7uz@192.168.245.71:3006
SEQUENCE:0
DTSTAMP:20260423T062511Z
DTSTART:20260209T090000Z
DTEND:20260209T104000Z
SUMMARY:Проектно-вычислительные комплексы в строительстве
LOCATION:ГК-2 514
END:VEVENT
BEGIN:VEVENT
UID:93p8@192.168.245.71:3006
SEQUENCE:0
DTSTAMP:20260423T062511Z
DTSTART:20260209T110000Z
DTEND:20260209T124000Z
SUMMARY:Водные пути и порты
LOCATION:ГК-2 508
END:VEVENT
BEGIN:VEVENT
UID:l2ng@192.168.245.71:3006
SEQUENCE:0
DTSTAMP:20260423T062511Z
DTSTART:20260209T130000Z
DTEND:20260209T144000Z
SUMMARY:Образовательный форсайт
LOCATION:ГК-2 507
END:VEVENT
BEGIN:VEVENT
UID:l8l3@192.168.245.71:3006
SEQUENCE:0
DTSTAMP:20260423T062511Z
DTSTART:20260210T070000Z
DTEND:20260210T084000Z
SUMMARY:Металлические конструкции
LOCATION:ГК-2 507
END:VEVENT
BEGIN:VEVENT
UID:bvg9@192.168.245.71:3006
SEQUENCE:0
DTSTAMP:20260423T062511Z
DTSTART:20260210T090000Z
DTEND:20260210T104000Z
SUMMARY:Металлические конструкции
LOCATION:ГК-2 507
END:VEVENT
BEGIN:VEVENT
UID:xwxi@192.168.245.71:3006
SEQUENCE:0
DTSTAMP:20260423T062511Z
DTSTART:20260210T130000Z
DTEND:20260210T144000Z
SUMMARY:Использование возобновляемой энергии
LOCATION:ГК-2 207а
END:VEVENT
BEGIN:VEVENT
UID:ebjj@192.168.245.71:3006
SEQUENCE:0
DTSTAMP:20260423T062511Z
DTSTART:20260211T090000Z
DTEND:20260211T104000Z
SUMMARY:Речные ГТС
LOCATION:ГК-2 507
END:VEVENT
BEGIN:VEVENT
UID:x6hr@192.168.245.71:3006
SEQUENCE:0
DTSTAMP:20260423T062511Z
DTSTART:20260211T110000Z
DTEND:20260211T124000Z
SUMMARY:Речные ГТС
LOCATION:ГК-2 507
END:VEVENT
BEGIN:VEVENT
UID:woux@192.168.245.71:3006
SEQUENCE:0
DTSTAMP:20260423T062511Z
DTSTART:20260211T130000Z
DTEND:20260211T144000Z
SUMMARY:Основания и фундаменты
LOCATION:ГЗ 215
END:VEVENT
BEGIN:VEVENT
UID:ccvj@192.168.245.71:3006
SEQUENCE:0
DTSTAMP:20260423T062511Z
DTSTART:20260211T150000Z
DTEND:20260211T164000Z
SUMMARY:Механика грунтов
LOCATION:ГК-2 311
END:VEVENT
BEGIN:VEVENT
UID:oa9o@192.168.245.71:3006
SEQUENCE:0
DTSTAMP:20260423T062511Z
DTSTART:20260212T070000Z
DTEND:20260212T084000Z
SUMMARY:Военная подготовка
LOCATION:Военная каф. кафедра
END:VEVENT
BEGIN:VEVENT
UID:mar2@192.168.245.71:3006
SEQUENCE:0
DTSTAMP:20260423T062511Z
DTSTART:20260212T090000Z
DTEND:20260212T104000Z
SUMMARY:Военная подготовка
LOCATION:Военная каф. кафедра
END:VEVENT
BEGIN:VEVENT
UID:hg7x@192.168.245.71:3006
SEQUENCE:0
DTSTAMP:20260423T062511Z
DTSTART:20260212T110000Z
DTEND:20260212T124000Z
SUMMARY:Военная подготовка
LOCATION:Военная каф. кафедра
END:VEVENT
BEGIN:VEVENT
UID:kir6@192.168.245.71:3006
SEQUENCE:0
DTSTAMP:20260423T062511Z
DTSTART:20260212T130000Z
DTEND:20260212T144000Z
SUMMARY:Нормы проектирования
LOCATION:ГК-2 304
END:VEVENT
BEGIN:VEVENT
UID:5oj3@192.168.245.71:3006
SEQUENCE:0
DTSTAMP:20260423T062511Z
DTSTART:20260213T070000Z
DTEND:20260213T084000Z
SUMMARY:Проектно-вычислительные комплексы в строительстве
LOCATION:ГК 216
END:VEVENT
END:VCALENDAR