BEGIN:VCALENDAR
VERSION:2.0
PRODID:-//spbstu.ru//ical//RU
NAME:Расписание группы 3130801/30401
X-WR-CALNAME:Расписание группы 3130801/30401
TIMEZONE-ID:Europe/Moscow
X-WR-TIMEZONE:Europe/Moscow
BEGIN:VEVENT
UID:6xbv@192.168.245.71:3006
SEQUENCE:0
DTSTAMP:20260422T104841Z
DTSTART:20260413T070000Z
DTEND:20260413T084000Z
SUMMARY:Использование возобновляемой энергии
LOCATION:ГК-2 305
END:VEVENT
BEGIN:VEVENT
UID:fl0e@192.168.245.71:3006
SEQUENCE:0
DTSTAMP:20260422T104841Z
DTSTART:20260413T090000Z
DTEND:20260413T104000Z
SUMMARY:Проектно-вычислительные комплексы в строительстве
LOCATION:ГК-2 514
END:VEVENT
BEGIN:VEVENT
UID:09ql@192.168.245.71:3006
SEQUENCE:0
DTSTAMP:20260422T104841Z
DTSTART:20260413T110000Z
DTEND:20260413T124000Z
SUMMARY:Водные пути и порты
LOCATION:ГК-2 508
END:VEVENT
BEGIN:VEVENT
UID:avfw@192.168.245.71:3006
SEQUENCE:0
DTSTAMP:20260422T104841Z
DTSTART:20260413T130000Z
DTEND:20260413T144000Z
SUMMARY:Водные пути и порты
LOCATION:ГК-2 508
END:VEVENT
BEGIN:VEVENT
UID:1hp1@192.168.245.71:3006
SEQUENCE:0
DTSTAMP:20260422T104841Z
DTSTART:20260414T070000Z
DTEND:20260414T084000Z
SUMMARY:Металлические конструкции
LOCATION:ГК-2 507
END:VEVENT
BEGIN:VEVENT
UID:39wv@192.168.245.71:3006
SEQUENCE:0
DTSTAMP:20260422T104841Z
DTSTART:20260414T090000Z
DTEND:20260414T104000Z
SUMMARY:Технологические процессы в строительстве
LOCATION:ГК-2 508
END:VEVENT
BEGIN:VEVENT
UID:cxqt@192.168.245.71:3006
SEQUENCE:0
DTSTAMP:20260422T104841Z
DTSTART:20260414T110000Z
DTEND:20260414T124000Z
SUMMARY:Технологические процессы в строительстве
LOCATION:ГК-2 508
END:VEVENT
BEGIN:VEVENT
UID:lta0@192.168.245.71:3006
SEQUENCE:0
DTSTAMP:20260422T104841Z
DTSTART:20260414T130000Z
DTEND:20260414T144000Z
SUMMARY:Основания и фундаменты
LOCATION:ГК-2 315
END:VEVENT
BEGIN:VEVENT
UID:wzup@192.168.245.71:3006
SEQUENCE:0
DTSTAMP:20260422T104841Z
DTSTART:20260415T090000Z
DTEND:20260415T104000Z
SUMMARY:Речные ГТС
LOCATION:ГК-2 507
END:VEVENT
BEGIN:VEVENT
UID:a4jg@192.168.245.71:3006
SEQUENCE:0
DTSTAMP:20260422T104841Z
DTSTART:20260415T110000Z
DTEND:20260415T124000Z
SUMMARY:Речные ГТС
LOCATION:ГК-2 507
END:VEVENT
BEGIN:VEVENT
UID:3eev@192.168.245.71:3006
SEQUENCE:0
DTSTAMP:20260422T104841Z
DTSTART:20260415T130000Z
DTEND:20260415T144000Z
SUMMARY:Основания и фундаменты
LOCATION:ГЗ 215
END:VEVENT
BEGIN:VEVENT
UID:zxil@192.168.245.71:3006
SEQUENCE:0
DTSTAMP:20260422T104841Z
DTSTART:20260416T070000Z
DTEND:20260416T084000Z
SUMMARY:Военная подготовка
LOCATION:Военная каф. кафедра
END:VEVENT
BEGIN:VEVENT
UID:w7b6@192.168.245.71:3006
SEQUENCE:0
DTSTAMP:20260422T104841Z
DTSTART:20260416T090000Z
DTEND:20260416T104000Z
SUMMARY:Военная подготовка
LOCATION:Военная каф. кафедра
END:VEVENT
BEGIN:VEVENT
UID:roln@192.168.245.71:3006
SEQUENCE:0
DTSTAMP:20260422T104841Z
DTSTART:20260416T110000Z
DTEND:20260416T124000Z
SUMMARY:Военная подготовка
LOCATION:Военная каф. кафедра
END:VEVENT
BEGIN:VEVENT
UID:utr3@192.168.245.71:3006
SEQUENCE:0
DTSTAMP:20260422T104841Z
DTSTART:20260416T150000Z
DTEND:20260416T164000Z
SUMMARY:Карьерная адаптивность
LOCATION:ГК-2 401
END:VEVENT
BEGIN:VEVENT
UID:z0et@192.168.245.71:3006
SEQUENCE:0
DTSTAMP:20260422T104841Z
DTSTART:20260418T070000Z
DTEND:20260418T084000Z
SUMMARY:Военная подготовка
LOCATION:Военная каф. кафедра
END:VEVENT
BEGIN:VEVENT
UID:ct4z@192.168.245.71:3006
SEQUENCE:0
DTSTAMP:20260422T104841Z
DTSTART:20260418T090000Z
DTEND:20260418T104000Z
SUMMARY:Военная подготовка
LOCATION:Военная каф. кафедра
END:VEVENT
END:VCALENDAR