BEGIN:VCALENDAR
VERSION:2.0
PRODID:-//spbstu.ru//ical//RU
NAME:Расписание группы 3130801/30401
X-WR-CALNAME:Расписание группы 3130801/30401
TIMEZONE-ID:Europe/Moscow
X-WR-TIMEZONE:Europe/Moscow
BEGIN:VEVENT
UID:4rp9@192.168.245.71:3006
SEQUENCE:0
DTSTAMP:20260422T063736Z
DTSTART:20260427T070000Z
DTEND:20260427T084000Z
SUMMARY:Использование возобновляемой энергии
LOCATION:ГК-2 305
END:VEVENT
BEGIN:VEVENT
UID:whvd@192.168.245.71:3006
SEQUENCE:0
DTSTAMP:20260422T063736Z
DTSTART:20260427T090000Z
DTEND:20260427T104000Z
SUMMARY:Проектно-вычислительные комплексы в строительстве
LOCATION:ГК-2 514
END:VEVENT
BEGIN:VEVENT
UID:f3rl@192.168.245.71:3006
SEQUENCE:0
DTSTAMP:20260422T063736Z
DTSTART:20260427T110000Z
DTEND:20260427T124000Z
SUMMARY:Водные пути и порты
LOCATION:ГК-2 508
END:VEVENT
BEGIN:VEVENT
UID:2k87@192.168.245.71:3006
SEQUENCE:0
DTSTAMP:20260422T063736Z
DTSTART:20260427T130000Z
DTEND:20260427T144000Z
SUMMARY:Водные пути и порты
LOCATION:ГК-2 508
END:VEVENT
BEGIN:VEVENT
UID:9tbh@192.168.245.71:3006
SEQUENCE:0
DTSTAMP:20260422T063736Z
DTSTART:20260428T070000Z
DTEND:20260428T084000Z
SUMMARY:Металлические конструкции
LOCATION:ГК-2 507
END:VEVENT
BEGIN:VEVENT
UID:hiw2@192.168.245.71:3006
SEQUENCE:0
DTSTAMP:20260422T063736Z
DTSTART:20260428T090000Z
DTEND:20260428T104000Z
SUMMARY:Технологические процессы в строительстве
LOCATION:ГК-2 508
END:VEVENT
BEGIN:VEVENT
UID:44gt@192.168.245.71:3006
SEQUENCE:0
DTSTAMP:20260422T063736Z
DTSTART:20260428T110000Z
DTEND:20260428T124000Z
SUMMARY:Технологические процессы в строительстве
LOCATION:ГК-2 508
END:VEVENT
BEGIN:VEVENT
UID:9l8q@192.168.245.71:3006
SEQUENCE:0
DTSTAMP:20260422T063736Z
DTSTART:20260428T130000Z
DTEND:20260428T144000Z
SUMMARY:Основания и фундаменты
LOCATION:ГК-2 315
END:VEVENT
BEGIN:VEVENT
UID:qlfz@192.168.245.71:3006
SEQUENCE:0
DTSTAMP:20260422T063736Z
DTSTART:20260429T090000Z
DTEND:20260429T104000Z
SUMMARY:Речные ГТС
LOCATION:ГК-2 507
END:VEVENT
BEGIN:VEVENT
UID:bx37@192.168.245.71:3006
SEQUENCE:0
DTSTAMP:20260422T063736Z
DTSTART:20260429T110000Z
DTEND:20260429T124000Z
SUMMARY:Речные ГТС
LOCATION:ГК-2 507
END:VEVENT
BEGIN:VEVENT
UID:4j7s@192.168.245.71:3006
SEQUENCE:0
DTSTAMP:20260422T063736Z
DTSTART:20260429T130000Z
DTEND:20260429T144000Z
SUMMARY:Основания и фундаменты
LOCATION:ГЗ 215
END:VEVENT
BEGIN:VEVENT
UID:84cw@192.168.245.71:3006
SEQUENCE:0
DTSTAMP:20260422T063736Z
DTSTART:20260430T070000Z
DTEND:20260430T084000Z
SUMMARY:Военная подготовка
LOCATION:Военная каф. кафедра
END:VEVENT
BEGIN:VEVENT
UID:vz0d@192.168.245.71:3006
SEQUENCE:0
DTSTAMP:20260422T063736Z
DTSTART:20260430T090000Z
DTEND:20260430T104000Z
SUMMARY:Военная подготовка
LOCATION:Военная каф. кафедра
END:VEVENT
BEGIN:VEVENT
UID:q5f2@192.168.245.71:3006
SEQUENCE:0
DTSTAMP:20260422T063736Z
DTSTART:20260430T110000Z
DTEND:20260430T124000Z
SUMMARY:Военная подготовка
LOCATION:Военная каф. кафедра
END:VEVENT
BEGIN:VEVENT
UID:nnn0@192.168.245.71:3006
SEQUENCE:0
DTSTAMP:20260422T063736Z
DTSTART:20260430T150000Z
DTEND:20260430T164000Z
SUMMARY:Карьерная адаптивность
LOCATION:ГК-2 401
END:VEVENT
BEGIN:VEVENT
UID:r29s@192.168.245.71:3006
SEQUENCE:0
DTSTAMP:20260422T063736Z
DTSTART:20260502T070000Z
DTEND:20260502T084000Z
SUMMARY:Военная подготовка
LOCATION:Военная каф. кафедра
END:VEVENT
BEGIN:VEVENT
UID:pw03@192.168.245.71:3006
SEQUENCE:0
DTSTAMP:20260422T063736Z
DTSTART:20260502T090000Z
DTEND:20260502T104000Z
SUMMARY:Военная подготовка
LOCATION:Военная каф. кафедра
END:VEVENT
END:VCALENDAR