BEGIN:VCALENDAR
VERSION:2.0
PRODID:-//spbstu.ru//ical//RU
NAME:Расписание группы 3130801/30601
X-WR-CALNAME:Расписание группы 3130801/30601
TIMEZONE-ID:Europe/Moscow
X-WR-TIMEZONE:Europe/Moscow
BEGIN:VEVENT
UID:xnjp@192.168.245.71:3006
SEQUENCE:0
DTSTAMP:20260422T220317Z
DTSTART:20260202T070000Z
DTEND:20260202T084000Z
SUMMARY:Образовательный форсайт
LOCATION:ГК-2 407
END:VEVENT
BEGIN:VEVENT
UID:ew1e@192.168.245.71:3006
SEQUENCE:0
DTSTAMP:20260422T220317Z
DTSTART:20260204T090000Z
DTEND:20260204T104000Z
SUMMARY:Основы управления проектами
LOCATION:ГК-2 310
END:VEVENT
BEGIN:VEVENT
UID:25rj@192.168.245.71:3006
SEQUENCE:0
DTSTAMP:20260422T220317Z
DTSTART:20260204T110000Z
DTEND:20260204T124000Z
SUMMARY:Основания и фундаменты
LOCATION:ГК-2 315
END:VEVENT
BEGIN:VEVENT
UID:g84p@192.168.245.71:3006
SEQUENCE:0
DTSTAMP:20260422T220317Z
DTSTART:20260204T130000Z
DTEND:20260204T144000Z
SUMMARY:Основания и фундаменты
LOCATION:ГЗ 215
END:VEVENT
BEGIN:VEVENT
UID:wyq9@192.168.245.71:3006
SEQUENCE:0
DTSTAMP:20260422T220317Z
DTSTART:20260205T070000Z
DTEND:20260205T084000Z
SUMMARY:Военная подготовка
LOCATION:Военная каф. кафедра
END:VEVENT
BEGIN:VEVENT
UID:cf73@192.168.245.71:3006
SEQUENCE:0
DTSTAMP:20260422T220317Z
DTSTART:20260205T090000Z
DTEND:20260205T104000Z
SUMMARY:Военная подготовка
LOCATION:Военная каф. кафедра
END:VEVENT
BEGIN:VEVENT
UID:armn@192.168.245.71:3006
SEQUENCE:0
DTSTAMP:20260422T220317Z
DTSTART:20260205T110000Z
DTEND:20260205T124000Z
SUMMARY:Военная подготовка
LOCATION:Военная каф. кафедра
END:VEVENT
BEGIN:VEVENT
UID:bm0t@192.168.245.71:3006
SEQUENCE:0
DTSTAMP:20260422T220317Z
DTSTART:20260206T070000Z
DTEND:20260206T084000Z
SUMMARY:Генеративное проектирование зданий и сооружений
LOCATION:ГК-2 407
END:VEVENT
BEGIN:VEVENT
UID:v14y@192.168.245.71:3006
SEQUENCE:0
DTSTAMP:20260422T220317Z
DTSTART:20260206T090000Z
DTEND:20260206T104000Z
SUMMARY:Генеративное проектирование зданий и сооружений
LOCATION:ГК-2 504
END:VEVENT
BEGIN:VEVENT
UID:4m4a@192.168.245.71:3006
SEQUENCE:0
DTSTAMP:20260422T220317Z
DTSTART:20260206T110000Z
DTEND:20260206T124000Z
SUMMARY:Металлические конструкции
LOCATION:ГЗ 215
END:VEVENT
BEGIN:VEVENT
UID:czh5@192.168.245.71:3006
SEQUENCE:0
DTSTAMP:20260422T220317Z
DTSTART:20260206T130000Z
DTEND:20260206T144000Z
SUMMARY:Металлические конструкции
LOCATION:ГК-2 401
END:VEVENT
BEGIN:VEVENT
UID:5i0p@192.168.245.71:3006
SEQUENCE:0
DTSTAMP:20260422T220317Z
DTSTART:20260207T070000Z
DTEND:20260207T084000Z
SUMMARY:Проектирование гражданских зданий
LOCATION:ГК-2 407
END:VEVENT
BEGIN:VEVENT
UID:yp3m@192.168.245.71:3006
SEQUENCE:0
DTSTAMP:20260422T220317Z
DTSTART:20260207T090000Z
DTEND:20260207T104000Z
SUMMARY:Проектирование гражданских зданий
LOCATION:ГК-2 504
END:VEVENT
BEGIN:VEVENT
UID:o7g9@192.168.245.71:3006
SEQUENCE:0
DTSTAMP:20260422T220317Z
DTSTART:20260207T110000Z
DTEND:20260207T124000Z
SUMMARY:Проектирование гражданских зданий
LOCATION:ГК-2 504
END:VEVENT
END:VCALENDAR