BEGIN:VCALENDAR
VERSION:2.0
PRODID:-//spbstu.ru//ical//RU
NAME:Расписание группы 3130801/30601
X-WR-CALNAME:Расписание группы 3130801/30601
TIMEZONE-ID:Europe/Moscow
X-WR-TIMEZONE:Europe/Moscow
BEGIN:VEVENT
UID:1ic8@192.168.245.71:3006
SEQUENCE:0
DTSTAMP:20260421T135109Z
DTSTART:20260324T053000Z
DTEND:20260324T065000Z
SUMMARY:Карьерная адаптивность
LOCATION:ГК-2 405
END:VEVENT
BEGIN:VEVENT
UID:z6h1@192.168.245.71:3006
SEQUENCE:0
DTSTAMP:20260421T135109Z
DTSTART:20260324T090000Z
DTEND:20260324T104000Z
SUMMARY:Проектирование гражданских зданий
LOCATION:ГК-2 412а
END:VEVENT
BEGIN:VEVENT
UID:g5pb@192.168.245.71:3006
SEQUENCE:0
DTSTAMP:20260421T135109Z
DTSTART:20260324T150000Z
DTEND:20260324T164000Z
SUMMARY:Иностранный язык. Профессионально-ориентированный курс
LOCATION:ГК-2 405
END:VEVENT
BEGIN:VEVENT
UID:vjf7@192.168.245.71:3006
SEQUENCE:0
DTSTAMP:20260421T135109Z
DTSTART:20260325T110000Z
DTEND:20260325T124000Z
SUMMARY:Технологические процессы в строительстве
LOCATION:ГК-2 412а
END:VEVENT
BEGIN:VEVENT
UID:sofo@192.168.245.71:3006
SEQUENCE:0
DTSTAMP:20260421T135109Z
DTSTART:20260325T130000Z
DTEND:20260325T144000Z
SUMMARY:Основания и фундаменты
LOCATION:ГЗ 215
END:VEVENT
BEGIN:VEVENT
UID:2vn0@192.168.245.71:3006
SEQUENCE:0
DTSTAMP:20260421T135109Z
DTSTART:20260325T150000Z
DTEND:20260325T164000Z
SUMMARY:Карьерная адаптивность
LOCATION:ГЗ 301 К
END:VEVENT
BEGIN:VEVENT
UID:9bt4@192.168.245.71:3006
SEQUENCE:0
DTSTAMP:20260421T135109Z
DTSTART:20260326T070000Z
DTEND:20260326T084000Z
SUMMARY:Военная подготовка
LOCATION:Военная каф. кафедра
END:VEVENT
BEGIN:VEVENT
UID:qa9g@192.168.245.71:3006
SEQUENCE:0
DTSTAMP:20260421T135109Z
DTSTART:20260326T090000Z
DTEND:20260326T104000Z
SUMMARY:Военная подготовка
LOCATION:Военная каф. кафедра
END:VEVENT
BEGIN:VEVENT
UID:skha@192.168.245.71:3006
SEQUENCE:0
DTSTAMP:20260421T135109Z
DTSTART:20260326T110000Z
DTEND:20260326T124000Z
SUMMARY:Военная подготовка
LOCATION:Военная каф. кафедра
END:VEVENT
BEGIN:VEVENT
UID:9vqp@192.168.245.71:3006
SEQUENCE:0
DTSTAMP:20260421T135109Z
DTSTART:20260327T063000Z
DTEND:20260327T075000Z
SUMMARY:Карьерная адаптивность
LOCATION:ГЗ 304
END:VEVENT
BEGIN:VEVENT
UID:zeow@192.168.245.71:3006
SEQUENCE:0
DTSTAMP:20260421T135109Z
DTSTART:20260327T090000Z
DTEND:20260327T104000Z
SUMMARY:Технологические процессы в строительстве
LOCATION:ГК-2 513
END:VEVENT
BEGIN:VEVENT
UID:i5qb@192.168.245.71:3006
SEQUENCE:0
DTSTAMP:20260421T135109Z
DTSTART:20260327T110000Z
DTEND:20260327T124000Z
SUMMARY:Металлические конструкции
LOCATION:ГЗ 215
END:VEVENT
BEGIN:VEVENT
UID:cr7s@192.168.245.71:3006
SEQUENCE:0
DTSTAMP:20260421T135109Z
DTSTART:20260328T070000Z
DTEND:20260328T084000Z
SUMMARY:Военная подготовка
LOCATION:Военная каф. кафедра
END:VEVENT
BEGIN:VEVENT
UID:pja9@192.168.245.71:3006
SEQUENCE:0
DTSTAMP:20260421T135109Z
DTSTART:20260328T070000Z
DTEND:20260328T100000Z
SUMMARY:Проектирование гражданских зданий
LOCATION:ГК-2 406
END:VEVENT
BEGIN:VEVENT
UID:i5p6@192.168.245.71:3006
SEQUENCE:0
DTSTAMP:20260421T135109Z
DTSTART:20260328T090000Z
DTEND:20260328T104000Z
SUMMARY:Военная подготовка
LOCATION:Военная каф. кафедра
END:VEVENT
END:VCALENDAR